BEGIN:VCALENDAR
VERSION:2.0
PRODID:-//wp-events-plugin.com//7.2.3.1//EN
TZID:America/New_York
X-WR-TIMEZONE:America/New_York
BEGIN:VEVENT
UID:688@breatheatlanta.us
DTSTART;TZID=America/New_York:20241116T103000
DTEND;TZID=America/New_York:20241116T123000
DTSTAMP:20241024T152831Z
URL:https://breatheatlanta.us/events/empowered-strong-workshop-series-holi
 stic-health/
SUMMARY:Empowered & Strong - Workshop Series: Holistic Health
DESCRIPTION:Empowered &amp\; Strong Workshop Series: Holistic Health is an 
 exciting opportunity for individuals looking to take charge of their well-
 being\, both personally and professionally. This immersive workshop series
  is designed to provide participants with the tools and knowledge needed t
 o achieve a balanced and empowered lifestyle.\n\nLed by a distinguished pa
 nel of health and wellness experts\, the series will cover a range of holi
 stic health practices\, from nutrition and mindfulness to physical wellnes
 s and mental clarity. Each session is thoughtfully curated to help attende
 es embrace a holistic approach to health\, addressing not only the physica
 l body but also the mind and spirit. Participants will gain practical insi
 ghts on how to integrate healthy habits into their daily routines\, making
  it easier to live with vitality and purpose.\n\nHeld at The Tasting Den (
 @ The Reserve List)\, 6690 Roswell Road\, Ste 415\, Sandy Springs\, GA 303
 28\, this in-person event offers a dynamic\, interactive setting where att
 endees can engage directly with experts and peers. It's a supportive envir
 onment designed to inspire growth\, learning\, and connection with like-mi
 nded individuals who are also committed to their holistic health journeys.
 \n\nThe Empowered &amp\; Strong series is perfect for anyone interested in
  exploring natural ways to enhance their well-being. Whether you're just b
 eginning your holistic health journey or are already well-versed in wellne
 ss practices\, this workshop series provides valuable strategies to help y
 ou thrive in both your personal life and professional endeavors.\n\nPartic
 ipants will leave feeling energized\, empowered\, and equipped with action
 able steps to cultivate a healthier\, more balanced lifestyle. Don’t mis
 s this opportunity to invest in your health—reserve your spot today and 
 get ready to embark on a transformative journey toward holistic empowermen
 t!\n\nGET TICKETS\n
ATTACH;FMTTYPE=image/jpeg:https://breatheatlanta.us/wp-content/uploads/202
 4/10/Empowered-Strong-Workshop-Series-Holistic-Health.jpg
CATEGORIES:Wellness Events
LOCATION:The Tasting Den @ The Reserve List\, 6690 Roswell Road \, STE 415 
 Sandy Springs\, Georgia\, 30328\, GA\, United States
X-APPLE-STRUCTURED-LOCATION;VALUE=URI;X-ADDRESS=6690 Roswell Road \, STE 41
 5 Sandy Springs\, Georgia\, 30328\, GA\, United States;X-APPLE-RADIUS=100;
 X-TITLE=The Tasting Den @ The Reserve List:geo:0,0
END:VEVENT
BEGIN:VTIMEZONE
TZID:America/New_York
X-LIC-LOCATION:America/New_York
BEGIN:STANDARD
DTSTART:20241103T010000
TZOFFSETFROM:-0400
TZOFFSETTO:-0500
TZNAME:EST
END:STANDARD
END:VTIMEZONE
END:VCALENDAR