BEGIN:VCALENDAR
VERSION:2.0
PRODID:-//wp-events-plugin.com//7.2.3.1//EN
TZID:America/New_York
X-WR-TIMEZONE:America/New_York
BEGIN:VEVENT
UID:676@breatheatlanta.us
DTSTART;TZID=America/New_York:20241025T143300
DTEND;TZID=America/New_York:20241025T183300
DTSTAMP:20241018T120318Z
URL:https://breatheatlanta.us/events/empowered-wombman-prayerformance/
SUMMARY:Empowered Wombman Prayerformance
DESCRIPTION:Are you yearning for a deeper connection with your ancestors? D
 o you seek a divine bond within a supportive community? Are you looking to
  enhance your relationship with your womb? If so\, you are warmly invited 
 to join this transformative experience designed for women to embrace womb 
 healing and rejuvenation.\n\nIn this nurturing space\, participants will b
 e guided through breathwork and movement exercises that activate inner wis
 dom and foster a sense of unity. The event will feature the gifted Divine 
 Singing Yogini\, Estar\, who will lead attendees on an immersive journey e
 xploring the nine feminine archetypes. Her melodic guidance will inspire a
 nd uplift\, encouraging participants to delve deeper into their own femini
 ne essence.\n\nChima\, known as the Whale Whisperer\, will invoke the powe
 r of ancestral energies\, her voice resonating with profound wisdom that p
 romises to leave attendees in awe. Additionally\, Akiyla the Queen will en
 chant the space with her sacred healing instruments\, creating a harmoniou
 s atmosphere as participants navigate this magical journey together.\n\nTh
 is event is not just about individual healing\; it’s about cleansing the
  doubts and chaos that may cloud your spirit. It serves as a reminder that
  your alignment with others shapes your experience and strengthens your es
 sence. Join this empowering circle of women\, and let the collective energ
 y nurture your spirit\, fostering connection and growth as you embrace you
 r divine self.\n\nCome\, celebrate the power of sisterhood and healing in 
 a sacred space dedicated to transformation and empowerment!\n\nGET TICKETS
 \n
ATTACH;FMTTYPE=image/jpeg:https://breatheatlanta.us/wp-content/uploads/202
 4/10/Empowered-Wombman-Prayerformance.jpg
CATEGORIES:Things To Do
LOCATION:The Zen Bar\, 553 Joseph E Lowery Boulevard Southwest Atlanta\, At
 lanta\, Georgia\, 30310\,  GA\, United States
X-APPLE-STRUCTURED-LOCATION;VALUE=URI;X-ADDRESS=553 Joseph E Lowery Bouleva
 rd Southwest Atlanta\, Atlanta\, Georgia\, 30310\,  GA\, United States;X-A
 PPLE-RADIUS=100;X-TITLE=The Zen Bar:geo:0,0
END:VEVENT
BEGIN:VTIMEZONE
TZID:America/New_York
X-LIC-LOCATION:America/New_York
BEGIN:DAYLIGHT
DTSTART:20240310T030000
TZOFFSETFROM:-0500
TZOFFSETTO:-0400
TZNAME:EDT
END:DAYLIGHT
END:VTIMEZONE
END:VCALENDAR