BEGIN:VCALENDAR
VERSION:2.0
PRODID:-//wp-events-plugin.com//7.2.3.1//EN
TZID:America/New_York
X-WR-TIMEZONE:America/New_York
BEGIN:VEVENT
UID:80@breatheatlanta.us
DTSTART;TZID=America/New_York:20240406T170000
DTEND;TZID=America/New_York:20240406T190000
DTSTAMP:20240320T070006Z
URL:https://breatheatlanta.us/events/empowerher-harmony-women-mental-healt
 h-support-group/
SUMMARY:EmpowerHer Harmony : Women Mental Health Support Group
DESCRIPTION:Step into an extraordinary voyage dedicated to self-care and em
 powerment\, meticulously designed to resonate with the vibrant essence of 
 women of color. This journey is an invitation to delve into the depths of 
 your being\, to explore the intricacies of your identity\, and to embrace 
 the beauty of your heritage. Here\, amidst a supportive and nurturing envi
 ronment\, you'll have the opportunity to discover new insights\, share you
 r stories and experiences\, and cultivate personal growth. It's a journey 
 of self-discovery\, empowerment\, and sisterhood—a journey where you'll 
 find the space to flourish\, to thrive\, and to become the best version of
  yourself. So\, join us as we embark on this enriching expedition together
 \, where every step brings us closer to empowerment and fulfillment.\n\nEv
 ent Information:\n\nEvent Name: Empower Her Harmony: Women Mental Health S
 upport Group\n\nHost: F.I.C.C.S\n\nDate and Time: Saturday\, April 6\, 5:0
 0 p.m. - 7:00 p.m. EDT\n\nLocation: 6624 Jimmy Carter Blvd Suite A Peachtr
 ee Corners\, GA 30071\, United States\n\nTicket Price:\n\nGeneral Admissio
 n: $35.00\n\nFees: $4.19\n\nTotal: $39.19\n\nGET TICKETS\n&nbsp\;\n\nAbout
  this Event: Embark on a unique journey of self-care and empowerment tailo
 red specifically for women of color. Join us for "Empower Her Harmony\," a
  women's mental health support group hosted by F.I.C.C.S. This nurturing a
 nd empowering space is dedicated to women seeking healing\, personal growt
 h\, and community support. Engage in empowering conversations\, learn prac
 tical self-care strategies\, and benefit from expert guidance from profess
 ionals experienced in the mental health needs of African American women. B
 uild lasting bonds and make meaningful connections in a safe and supportiv
 e environment. Reserve your spot today and begin your journey towards a he
 althier\, happier you!\n\nWorkout Session Detail: This event does not incl
 ude a workout session but focuses on mental health support and empowerment
  for women of color.\n\nEssential for Bring: Attendees may want to bring a
  notebook and pen to take notes during the support group session.\n\nParki
 ng Option: Details regarding parking options at 6624 Jimmy Carter Blvd are
  not provided. Attendees are advised to inquire about parking arrangements
  in advance.\n\n
ATTACH;FMTTYPE=image/jpeg:https://breatheatlanta.us/wp-content/uploads/202
 4/03/https___cdn.evbuc_.com_images_686509219_470811598789_1_original.jpg
CATEGORIES:Wellness Events
LOCATION:6624 Jimmy Carter Blvd\, 6624 Jimmy Carter Blvd Suite A Peacchtree
  Corners\,\,  GA \, United States\, 30071 \, GA \, United States
X-APPLE-STRUCTURED-LOCATION;VALUE=URI;X-ADDRESS=6624 Jimmy Carter Blvd Suit
 e A Peacchtree Corners\,\,  GA \, United States\, 30071 \, GA \, United St
 ates;X-APPLE-RADIUS=100;X-TITLE=6624 Jimmy Carter Blvd:geo:0,0
END:VEVENT
BEGIN:VTIMEZONE
TZID:America/New_York
X-LIC-LOCATION:America/New_York
BEGIN:DAYLIGHT
DTSTART:20240310T030000
TZOFFSETFROM:-0500
TZOFFSETTO:-0400
TZNAME:EDT
END:DAYLIGHT
END:VTIMEZONE
END:VCALENDAR