BEGIN:VCALENDAR
VERSION:2.0
PRODID:-//wp-events-plugin.com//7.2.3.1//EN
TZID:America/New_York
X-WR-TIMEZONE:America/New_York
BEGIN:VEVENT
UID:756@breatheatlanta.us
DTSTART;TZID=America/New_York:20250215T190000
DTEND;TZID=America/New_York:20250215T220000
DTSTAMP:20250201T124704Z
URL:https://breatheatlanta.us/events/experience-tranquility-the-transforma
 tive-power-of-soap-therapy/
SUMMARY:Experience Tranquility: The Transformative Power of Soap Therapy
DESCRIPTION:In a world filled with daily pressures\, finding a moment to re
 lax and reconnect is essential. The Soap Therapy Workshop by Ready to Live
  Soaps offers a unique opportunity to melt away stress while engaging in a
  creative and soothing activity.\n\nParticipants are welcomed into a warm\
 , inviting space where artistry and self-care blend seamlessly. This immer
 sive\, hands-on workshop is designed not just for crafting soap but for fo
 stering mindfulness\, relaxation\, and inner peace. Under the expert guida
 nce of the compassionate team at Ready to Live Soaps\, attendees will expl
 ore the therapeutic process of soap-making\, using all-natural ingredients
 \, calming essential oils\, and a vibrant palette of colors to create thei
 r own customized soap bars.\n\nFar beyond a simple DIY activity\, this wor
 kshop is an experience in wellness—encouraging self-expression\, emotion
 al well-being\, and a deep connection to the present moment. Whether seeki
 ng relaxation\, a new creative outlet\, or a shared experience with friend
 s\, every participant will leave feeling refreshed\, empowered\, and inspi
 red.\n\nNo prior experience is necessary—just an open mind and a willing
 ness to indulge in a moment of self-care. Everything else is thoughtfully 
 provided\, ensuring a stress-free and enriching experience from start to f
 inish.\n\n✨Take this opportunity to unwind\, recharge\, and create some
 thing truly special. ✨\n\n📌 See what others are saying! Read our glow
 ing reviews on Google: Click Here\n\nGET TICKETS\n
ATTACH;FMTTYPE=image/jpeg:https://breatheatlanta.us/wp-content/uploads/202
 5/02/Melt-Away-Stress-Discover-Soap-Therapy.jpeg
CATEGORIES:Wellness Events
LOCATION:305 Peters St SW 306 b\,  305 Peters St SW 306 b\, 305 Peters Stre
 et Southwes\, 306 b Atlanta\, 30313\, GA\, United States
X-APPLE-STRUCTURED-LOCATION;VALUE=URI;X-ADDRESS= 305 Peters St SW 306 b\, 3
 05 Peters Street Southwes\, 306 b Atlanta\, 30313\, GA\, United States;X-A
 PPLE-RADIUS=100;X-TITLE=305 Peters St SW 306 b:geo:0,0
END:VEVENT
BEGIN:VTIMEZONE
TZID:America/New_York
X-LIC-LOCATION:America/New_York
BEGIN:STANDARD
DTSTART:20241103T010000
TZOFFSETFROM:-0400
TZOFFSETTO:-0500
TZNAME:EST
END:STANDARD
END:VTIMEZONE
END:VCALENDAR