BEGIN:VCALENDAR
VERSION:2.0
PRODID:-//wp-events-plugin.com//7.2.3.1//EN
TZID:America/New_York
X-WR-TIMEZONE:America/New_York
BEGIN:VEVENT
UID:557@breatheatlanta.us
DTSTART;TZID=America/New_York:20241019T110000
DTEND;TZID=America/New_York:20241019T120000
DTSTAMP:20241001T151343Z
URL:https://breatheatlanta.us/events/explore-venice-beach-food-tours-by-co
 zymeal/
SUMMARY:Explore Venice Beach - Food Tours by Cozymeal™
DESCRIPTION:Discover the vibrant culture of Venice Beach while savoring its
  beloved culinary delights with Cozymeal! Participants can look forward to
  the upcoming food tour\, “Explore Venice Beach\,” led by the knowledg
 eable Guide Bobby or a local expert. This engaging 3-hour adventure featur
 es six delicious tastings\, allowing guests to immerse themselves in the l
 ocal food scene and experience the unique flavors that define this iconic 
 area.\n\nJoin in for a memorable exploration that combines culinary enjoym
 ent with cultural insights\, making it a perfect outing for food lovers an
 d adventure seekers alike.\n\nGET TICKETS\n
ATTACH;FMTTYPE=image/jpeg:https://breatheatlanta.us/wp-content/uploads/202
 4/10/Explore-Venice-Beach-Food-Tours-by-Cozymeal™.jpeg
CATEGORIES:Travel Events
END:VEVENT
BEGIN:VTIMEZONE
TZID:America/New_York
X-LIC-LOCATION:America/New_York
BEGIN:DAYLIGHT
DTSTART:20240310T030000
TZOFFSETFROM:-0500
TZOFFSETTO:-0400
TZNAME:EDT
END:DAYLIGHT
END:VTIMEZONE
END:VCALENDAR