BEGIN:VCALENDAR
VERSION:2.0
PRODID:-//wp-events-plugin.com//7.2.3.1//EN
TZID:America/New_York
X-WR-TIMEZONE:America/New_York
BEGIN:VEVENT
UID:697@breatheatlanta.us
DTSTART;TZID=America/New_York:20241120T200000
DTEND;TZID=America/New_York:20241120T210000
DTSTAMP:20241024T165022Z
URL:https://breatheatlanta.us/events/exploring-meditation-qigong/
SUMMARY:Exploring Meditation -Qigong
DESCRIPTION:Qigong\, an ancient Chinese practice\, is deeply rooted in the 
 art of harnessing and influencing life-energy\, known as Qi. The term "Qig
 ong" combines Qi (meaning "life-energy-force") and Gong (meaning "work" or
  "practice")\, representing the disciplined cultivation of energy that flo
 ws through all living matter. Through mindful movements\, grounding postur
 es\, and meditation\, Qigong offers a holistic approach to enhancing overa
 ll well-being.\n\nQigong is a unique blend of physical and mental practice
 s designed to promote harmony within the body and mind. It incorporates ge
 ntle stretching\, steady postures\, and focused breathwork\, all aimed at 
 balancing the body's energy flow. This ancient discipline is more than jus
 t physical exercise—it's a transformative experience that has been shown
  to offer several benefits\, including:\n\n 	Stress Reduction: By focusing
  on slow\, controlled movements and mindful breathing\, Qigong helps to ca
 lm the nervous system\, reducing feelings of anxiety and tension.\n 	Incre
 ased Mental Clarity: Regular practice promotes greater mental focus\, mind
 fulness\, and a clearer sense of awareness.\n 	Improved Sleep: The meditat
 ive nature of Qigong has been shown to enhance sleep quality by calming th
 e mind and balancing energy flow.\n 	Enhanced Physical Fitness: Qigong inv
 olves gentle\, flowing movements that improve flexibility\, balance\, and 
 strength without placing stress on the body.\n\nThis meditation session wi
 ll specifically focus on grounding the body\, enhancing mental clarity\, a
 nd practicing breathwork techniques. Participants will engage in grounding
  postures to center themselves\, followed by breathwork exercises designed
  to improve focus and inner calm.\n\nQigong is suitable for individuals of
  all experience levels\, whether you're new to meditation or a seasoned pr
 actitioner. The meditative journey invites participants to connect more de
 eply with their life energy\, promoting not only physical health but also 
 emotional and mental well-being.\n\nDonations to Support the Practice\n\nP
 articipation in the Qigong meditation session is donation-based\, with con
 tributions gratefully accepted. If you feel inspired to support the practi
 ce\, donations can be made through the following link: Donate Here.\n\nJoi
 n us in this exploration of Qigong—a time-honored practice that nurtures
  the mind\, body\, and spirit\, fostering a deeper connection to the life 
 force that sustains us all.\n\nGET TICKETS\n
ATTACH;FMTTYPE=image/jpeg:https://breatheatlanta.us/wp-content/uploads/202
 4/10/Exploring-Meditation-Qigong.jpg
CATEGORIES:Wellness Events
LOCATION:Energy Works ATL\, 1215 Hightower Trail Building D\, Suite 101 Atl
 anta\, GA 30350\, Atlanta\, GA\, 30350\, GA\, United States
X-APPLE-STRUCTURED-LOCATION;VALUE=URI;X-ADDRESS=1215 Hightower Trail Buildi
 ng D\, Suite 101 Atlanta\, GA 30350\, Atlanta\, GA\, 30350\, GA\, United S
 tates;X-APPLE-RADIUS=100;X-TITLE=Energy Works ATL:geo:0,0
END:VEVENT
BEGIN:VTIMEZONE
TZID:America/New_York
X-LIC-LOCATION:America/New_York
BEGIN:STANDARD
DTSTART:20241103T010000
TZOFFSETFROM:-0400
TZOFFSETTO:-0500
TZNAME:EST
END:STANDARD
END:VTIMEZONE
END:VCALENDAR