BEGIN:VCALENDAR
VERSION:2.0
PRODID:-//wp-events-plugin.com//7.2.3.1//EN
TZID:America/New_York
X-WR-TIMEZONE:America/New_York
BEGIN:VEVENT
UID:209@breatheatlanta.us
DTSTART;TZID=America/New_York:20240414T104500
DTEND;TZID=America/New_York:20240414T120000
DTSTAMP:20240404T101216Z
URL:https://breatheatlanta.us/events/fabletics-spring-yoga-class-for-begin
 ners/
SUMMARY:Fabletics Spring Yoga Class for Beginners
DESCRIPTION:Prepare yourself to stretch\, breathe\, and unwind at our Fable
 tics Yoga Class tailored for beginners! Remember to bring along your yoga 
 mat and a bottle of water to stay hydrated throughout the session. Let's e
 mbark on this journey of relaxation and self-discovery together!\n\nEvent 
 Information:\n\nEvent Name: Fabletics Spring Yoga Class for Beginners\n\nH
 ost: The Bourgeois Yogi\n\nDate and Time: Sunday\, April 14 • 10:45am - 
 12pm EDT\n\nLocation: Fabletics\, 4400 Ashford Dunwoody Road\, Atlanta\, G
 A 30346 United States\n\nAbout this Event:  for a relaxing and rejuvenati
 ng yoga class at Fabletics! Whether you're a total newbie or an experience
 d Yogi\, or looking to refresh your practice\, this class is perfect for y
 ou. Our RYT-200 Yoga Instructor\, Crystal\, will guide you through gentle 
 poses and teach you the basics of yoga.\n\nIt is so important to start the
  upcoming week off with intention and clarity to set the tone for a succes
 sful week\, so let’s do it together!\n\nWe even have a mood-boosting Wel
 lness Bar\, powered by Vivazen to provide free yummy mocktails that reliev
 e anxiety\, stress\, pains and aches!\n\nFabletics is located At Perimeter
  Mall on 4400 Ashford Dunwoody Road Atlanta 30346. It's on the 2nd level n
 ear Sephora\, next to Psycho Bunny &amp\; Lush. Don't miss out on this opp
 ortunity to start your yoga journey with Fabletics and receive a discount 
 on super cute merchandise for men and women!\n\nTicket Information:\n\nFre
 e RSVP - Limited:\n\n1 x Free RSVP\n\nTotal: $0.00\n\nGET TICKETS\n\nWorko
 ut Session Detail:\n\nDuration: 1 hour 15 minutes\n\nOur RYT-200 Yoga Inst
 ructor\, Crystal\, will guide participants through gentle poses\, perfect 
 for beginners.\n\nParticipants will learn the basics of yoga and have the 
 opportunity to refresh their practice.\n\nEssential for Bring:\n\nWater\n\
 nYoga mat\n\nParking Option: Available at Fabletics\, located at Perimeter
  Mall.\n\nThis event promises a refreshing start to your week\, offering a
  rejuvenating yoga class suitable for beginners and seasoned practitioners
  alike\, along with the bonus of mood-boosting mocktails from the Wellness
  Bar.
ATTACH;FMTTYPE=image/jpeg:https://breatheatlanta.us/wp-content/uploads/202
 4/04/4564646456446456456466546456456456.jpg
CATEGORIES:Wellness Events,Yoga Events
LOCATION:Fabletics\, Ashford Dunwoody Road\, Atlanta\, GA\, USA\, 4400 Ashf
 ord Dunwoody Road \, \, Atlanta\, United States\, 30346\, GA  \, United St
 ates
X-APPLE-STRUCTURED-LOCATION;VALUE=URI;X-ADDRESS=4400 Ashford Dunwoody Road 
 \, \, Atlanta\, United States\, 30346\, GA  \, United States;X-APPLE-RADIU
 S=100;X-TITLE=Fabletics\, Ashford Dunwoody Road\, Atlanta\, GA\, USA:geo:0
 ,0
END:VEVENT
BEGIN:VTIMEZONE
TZID:America/New_York
X-LIC-LOCATION:America/New_York
BEGIN:DAYLIGHT
DTSTART:20240310T030000
TZOFFSETFROM:-0500
TZOFFSETTO:-0400
TZNAME:EDT
END:DAYLIGHT
END:VTIMEZONE
END:VCALENDAR