BEGIN:VCALENDAR
VERSION:2.0
PRODID:-//wp-events-plugin.com//7.2.3.1//EN
TZID:America/New_York
X-WR-TIMEZONE:America/New_York
BEGIN:VEVENT
UID:549@breatheatlanta.us
DTSTART;TZID=America/New_York:20241017T170000
DTEND;TZID=America/New_York:20241021T100000
DTSTAMP:20241001T134602Z
URL:https://breatheatlanta.us/events/fall-into-self-love-retreat-blue-ridg
 e-mountains/
SUMMARY:Fall into Self-Love Retreat Blue Ridge Mountains
DESCRIPTION:Escape to the serene beauty of Georgia's Blue Ridge Mountains f
 or a transformative weekend at the Fall into Self-Love Retreat. Designed t
 o help you reconnect with yourself\, this retreat offers a perfect blend o
 f relaxation\, self-care\, and personal growth. Set amidst the stunning mo
 untain landscape\, participants will enjoy a rejuvenating experience fille
 d with workshops aimed at fostering empowerment\, self-discovery\, and min
 dfulness.\n\nTake a much-needed break from your daily routine and immerse 
 yourself in activities that nurture your mind\, body\, and soul. The retre
 at provides a supportive environment where you can connect with like-minde
 d individuals\, share your journey\, and cultivate deeper self-awareness.\
 n\nHighlights include:\n\n 	Empowering self-love workshops\n 	Opportunitie
 s for relaxation and reflection\n 	Pampering and wellness sessions\n 	Conn
 ection with a community of individuals on a similar path to self-discovery
 \n\nThis weekend retreat is a unique opportunity to focus entirely on your
  well-being\, offering an escape to recharge and rejuvenate. Don't miss th
 e chance to prioritize yourself and rediscover the essence of self-love.\n
 \nFor more details and to secure your spot\, visit Fall into Self-Love Ret
 reat Information. We look forward to welcoming you!\n\nGET TICKETS\n
ATTACH;FMTTYPE=image/jpeg:https://breatheatlanta.us/wp-content/uploads/202
 4/10/Fall-into-Self-Love-Retreat-Blue-Ridge-Mountains.jpg
CATEGORIES:Sports &amp; Fitness Events
LOCATION:Atlanta\, Atlanta Atlanta\, Atlanta\, Georgia\, 30168\, GA\, Unite
 d States
X-APPLE-STRUCTURED-LOCATION;VALUE=URI;X-ADDRESS=Atlanta Atlanta\, Atlanta\,
  Georgia\, 30168\, GA\, United States;X-APPLE-RADIUS=100;X-TITLE=Atlanta:g
 eo:0,0
END:VEVENT
BEGIN:VTIMEZONE
TZID:America/New_York
X-LIC-LOCATION:America/New_York
BEGIN:DAYLIGHT
DTSTART:20240310T030000
TZOFFSETFROM:-0500
TZOFFSETTO:-0400
TZNAME:EDT
END:DAYLIGHT
END:VTIMEZONE
END:VCALENDAR