BEGIN:VCALENDAR
VERSION:2.0
PRODID:-//wp-events-plugin.com//7.2.3.1//EN
TZID:America/New_York
X-WR-TIMEZONE:America/New_York
BEGIN:VEVENT
UID:454@breatheatlanta.us
DTSTART;TZID=America/New_York:20240921T140000
DTEND;TZID=America/New_York:20240921T180000
DTSTAMP:20240914T182731Z
URL:https://breatheatlanta.us/events/fall-zen-market-a-zenful-self-care-po
 p-up-experience/
SUMMARY:Fall Zen Market: A Zenful Self Care Pop Up Experience
DESCRIPTION:Step into serenity at the Fall Zen Market\, an immersive self-c
 are pop-up designed to rejuvenate your mind\, body\, and soul. Taking plac
 e on Saturday\, September 21\, 2024\, from 2-6 PM at Nyarai Waistbeads Cre
 ative Studio\, this one-of-a-kind event invites you to slow down\, unwind\
 , and embrace the peace that comes with intentional self-care.\n\nThis zen
 ful gathering is centered around relaxation and good vibes\, offering a ra
 nge of experiences tailored to help you find balance and renewal as the au
 tumn equinox sets in. Whether you're looking to quiet your mind through so
 othing meditation sessions\, indulge in rejuvenating spa treatments\, or s
 imply enjoy a day of mindfulness\, this event is your gateway to tranquili
 ty.\n\nThe Fall Zen Market isn’t just about relaxation—it’s a celebr
 ation of the self-care rituals we often forget to prioritize. Connect with
  like-minded individuals in a space designed for rest\, reflection\, and h
 ealing.\n\nExpect to enjoy:\n\n 	Guided Meditation sessions to center your
 self and clear your mind.\n 	Mini spa treatments that leave you feeling pa
 mpered and refreshed.\n 	Holistic wellness vendors\, offering products and
  services to nourish your inner and outer self.\n 	Mindful shopping with l
 ocal artisans showcasing items like crystals\, essential oils\, and handma
 de goods.\n 	A nurturing community atmosphere where you can connect\, shar
 e\, and experience holistic well-being.\n\nWhether you're new to self-care
  practices or looking to deepen your wellness journey\, this Fall Equinox 
 Zen Market is the perfect opportunity to reset and refresh. Come solo or b
 ring a friend\, and let this soulful event remind you to take a well-deser
 ved pause from the everyday hustle.\n\nTreat yourself to a day of zen and 
 discover how the power of mindful relaxation can set a positive tone for t
 he season ahead. We look forward to welcoming you into this peaceful oasis
 !\n\nGET TICKETS\n
ATTACH;FMTTYPE=image/jpeg:https://breatheatlanta.us/wp-content/uploads/202
 4/09/Fall-Zen-Market.jpg
CATEGORIES:Things To Do,Wellness Events
LOCATION:1526 E Forrest Ave\, 1526 East Forrest Avenue East Point\, Atlanta
 \, Georgia\, 30344\, GA\, United States
X-APPLE-STRUCTURED-LOCATION;VALUE=URI;X-ADDRESS=1526 East Forrest Avenue Ea
 st Point\, Atlanta\, Georgia\, 30344\, GA\, United States;X-APPLE-RADIUS=1
 00;X-TITLE=1526 E Forrest Ave:geo:0,0
END:VEVENT
BEGIN:VTIMEZONE
TZID:America/New_York
X-LIC-LOCATION:America/New_York
BEGIN:DAYLIGHT
DTSTART:20240310T030000
TZOFFSETFROM:-0500
TZOFFSETTO:-0400
TZNAME:EDT
END:DAYLIGHT
END:VTIMEZONE
END:VCALENDAR