BEGIN:VCALENDAR
VERSION:2.0
PRODID:-//wp-events-plugin.com//7.2.3.1//EN
TZID:America/New_York
X-WR-TIMEZONE:America/New_York
BEGIN:VEVENT
UID:75@breatheatlanta.us
DTSTART;TZID=America/New_York:20240326T000000
DTEND;TZID=America/New_York:20240326T130000
DTSTAMP:20240322T110405Z
URL:https://breatheatlanta.us/events/find-out-how-to-become-a-personal-tra
 iner/
SUMMARY:Find out how to become a Personal Trainer
DESCRIPTION:Online for an enlightening session where you can delve into the
  intricacies of becoming a personal trainer and embark on the exciting jou
 rney of launching your fitness career. Discover the comprehensive steps\, 
 essential insights\, and invaluable tips that will empower you to navigate
  the dynamic landscape of the fitness industry with confidence and compete
 nce. Unlock the door to a fulfilling profession where you can inspire othe
 rs to achieve their wellness goals while realizing your potential for grow
 th and success.\n\nEvent Information:\n\nEvent name: Find out how to becom
 e a Personal Trainer\n\nHost by: George Fereos\n\nDate and Time: Tuesday\
 , 26 March 2024\, 00:00 - 01:00 PKT\n\nLocation: Online\n\nAbout this Even
 t:\n\nWelcome to our online event where you can find out how to become a p
 ersonal trainer! Are you passionate about fitness and helping others reach
  their goals? Join us for this informative session to learn about the step
 s and requirements to kick-start your career in personal training. Our exp
 erienced instructors will share valuable insights and tips to guide you on
  this exciting journey. Don't miss this opportunity to explore a rewarding
  profession in the fitness industry! Free anatomy resources will be provid
 ed to attendees.\n\nTicket Information:\n\nTicket Price: Free\n\nGET TICKE
 TS\n
ATTACH;FMTTYPE=image/jpeg:https://breatheatlanta.us/wp-content/uploads/202
 4/03/https___cdn.evbuc_.com_images_700578019_1397888689423_1_original.jpg
CATEGORIES:Wellness Events,Yoga Events
END:VEVENT
BEGIN:VTIMEZONE
TZID:America/New_York
X-LIC-LOCATION:America/New_York
BEGIN:DAYLIGHT
DTSTART:20240310T030000
TZOFFSETFROM:-0500
TZOFFSETTO:-0400
TZNAME:EDT
END:DAYLIGHT
END:VTIMEZONE
END:VCALENDAR