BEGIN:VCALENDAR
VERSION:2.0
PRODID:-//wp-events-plugin.com//7.2.3.1//EN
TZID:America/New_York
X-WR-TIMEZONE:America/New_York
BEGIN:VEVENT
UID:156@breatheatlanta.us
DTSTART;TZID=America/New_York:20240524T090000
DTEND;TZID=America/New_York:20240524T163000
DTSTAMP:20240404T003344Z
URL:https://breatheatlanta.us/events/finding-solutions-the-top-100-telemen
 tal-health-ethics-risks/
SUMMARY:Finding Solutions: The Top 100 Telemental Health Ethics Risks
DESCRIPTION:Embark on a transformative journey with our telemental health t
 raining\, designed to meet the requirements of numerous states' TMH traini
 ng. Delve deep into the intricacies of telemental health as you discover a
 nd explore the One Hundred Risks associated with this evolving field.\n\nE
 vent Information:\n\nEvent Name: Finding Solutions: The Top 100 Telemental
  Health Ethics Risks\n\nHost: Online Synchronous Ethics Webinars: LPC LCSW
  MFT\n\nDate and Time: Friday\, May 24 • 9:00am - 4:30pm EDT\n\nLocation
 : Nationwide Live Interactive Webinar\, Nationwide\, GA 30329\, United Sta
 tes\n\nAbout this Event: A comprehensive telemental health training sessio
 n focusing on "The Top 100 Risks Of Telemental Health: Ethics. Solutions."
  Led by Eric Groh\, LPC\, ACS\, CPCS\, BC-TMH\, this webinar will delve in
 to the myriad risks associated with telemental health practice and provide
  practical solutions to manage them effectively.\n\nIn this 7-hour and 30-
 minute webinar\, participants will gain insights into the legal and ethica
 l complexities of telemental health\, particularly in the post-pandemic er
 a. Learn about the advantages and disadvantages of telemental health compa
 red to traditional in-office psychotherapy\, and discover strategies foraf
 ely d selivering telemental health counseling from the start.\n\nAbout Yo
 ur Presenter: Eric Groh\, LPC\, brings over 20 years of experience in heal
 th professional training and education. As an Approved Continuing Educatio
 n Provider approved by NBCC (ACEP No. 6921)\, Eric is committed to deliver
 ing high-quality training sessions focused on mental healthcare profession
 al ethics.\n\nTicket Price: $169.00\n\nSales End Date: April 19\, 2024.\n\
 nSales Start Date: April 20\, 2024\n\nGET TICKETS\n\n&nbsp\;\n\nRefund Pol
 icy: Refunds available up to 7 days before the event. Eventbrite's fee is 
 nonrefundable.\n\nWorkout Session Detail:\n\nTitle: The Top 100 Risks Of T
 elemental Health: Ethics. Solutions.\n\nPresenter: Eric Groh\, LPC\, ACS\,
  CPCS\, BC-TMH\n\nDuration: 7 hours 30 minutes\n\nEssential for Attendees:
 \n\nAccess to Zoom platform\n\nPunctuality (Be on Zoom early to ensure rec
 eipt of CE certificate\; late attendees may join but may not receive CE ce
 rtificate)\n\nParking Option: Not applicable for online webinar.\n\n(Note:
  Zoom link will be sent the week of the event.)
ATTACH;FMTTYPE=image/jpeg:https://breatheatlanta.us/wp-content/uploads/202
 4/03/89898989.jpg
CATEGORIES:Wellness Events
LOCATION:Nationwide Synchronous Webinar\, Nationwide Live Interactive Webin
 ar Nationwide\, \, GA \, United States\, 30329 \, GA \, United States
X-APPLE-STRUCTURED-LOCATION;VALUE=URI;X-ADDRESS=Nationwide Live Interactive
  Webinar Nationwide\, \, GA \, United States\, 30329 \, GA \, United State
 s;X-APPLE-RADIUS=100;X-TITLE=Nationwide Synchronous Webinar:geo:0,0
END:VEVENT
BEGIN:VTIMEZONE
TZID:America/New_York
X-LIC-LOCATION:America/New_York
BEGIN:DAYLIGHT
DTSTART:20240310T030000
TZOFFSETFROM:-0500
TZOFFSETTO:-0400
TZNAME:EDT
END:DAYLIGHT
END:VTIMEZONE
END:VCALENDAR