BEGIN:VCALENDAR
VERSION:2.0
PRODID:-//wp-events-plugin.com//7.2.3.1//EN
TZID:America/New_York
X-WR-TIMEZONE:America/New_York
BEGIN:VEVENT
UID:316@breatheatlanta.us
DTSTART;TZID=America/New_York:20240728T120000
DTEND;TZID=America/New_York:20240728T130000
DTSTAMP:20240626T195024Z
URL:https://breatheatlanta.us/events/fitness-online-university-brunch-boot
 camp/
SUMMARY:Fitness Online University Brunch Bootcamp
DESCRIPTION:Experience the fusion of high-intensity workout and rhythm at t
 he Fitness Online University Brunch Bootcamp! "Hiit the Beat" is a dynamic
  and music-driven workout designed to push your limits and take your fitne
 ss to the next level. Led by coaches Ms. Unique and Coco-Chanel\, this hig
 h-intensity interval training (HIIT) session promises an exhilarating full
 -body workout experience.\n\nEvent Details:\n\n 	Intensity Level: Get read
 y for a high-energy workout that combines strength and cardio stamina buil
 ding exercises.\n 	Format: "Hiit the Beat" incorporates upbeat and inspiri
 ng step routines along with electrifying\, charged-up exercises to keep yo
 u engaged and motivated throughout the one-hour session.\n 	Trainers: Led 
 by experienced coaches Ms. Unique and Coco-Chanel\, participants will be g
 uided through a challenging yet rewarding workout session.\n\nBenefits of 
 Attending:\n\n 	Strength and Cardiovascular Endurance: Build strength and 
 improve cardiovascular health through a combination of intense exercises.\
 n 	Music-Driven Motivation: The workout is driven by energetic music\, kee
 ping participants motivated and pushing them to their limits.\n 	Full-Body
  Experience: Engage multiple muscle groups and experience a full-body work
 out that targets all areas of fitness.\n\nWhy Attend?\n\n 	Challenge Yours
 elf: Push your limits and take your fitness journey to new heights with "H
 iit the Beat." This workout is designed to challenge you both physically a
 nd mentally.\n 	Community Support: Join a community of fitness enthusiasts
  who share your passion for health and wellness.\n 	Music and Movement: Ex
 perience the powerful combination of music and movement\, making your work
 out sessions fun and exhilarating.\n\nDon't miss out on this opportunity t
 o sweat\, burn calories\, and achieve your fitness goals in a high-energy 
 and motivating environment. Join Ms. Unique and Coco-Chanel for an unforge
 ttable Fitness Online University Brunch Bootcamp session.\n\nGET TICKETS\n
ATTACH;FMTTYPE=image/jpeg:https://breatheatlanta.us/wp-content/uploads/202
 4/06/Fitness-Online-University-Brunch-Bootcamp-Ebony-Fit-Weekend-.jpg
CATEGORIES:Sports &amp; Fitness Events,Wellness Events
LOCATION:Fiano Fit\, 3075 Jonquil Drive #Suite A Smyrna\, Atlanta\, United 
 States\, 30080\, GA \, United States
X-APPLE-STRUCTURED-LOCATION;VALUE=URI;X-ADDRESS=3075 Jonquil Drive #Suite A
  Smyrna\, Atlanta\, United States\, 30080\, GA \, United States;X-APPLE-RA
 DIUS=100;X-TITLE=Fiano Fit:geo:0,0
END:VEVENT
BEGIN:VTIMEZONE
TZID:America/New_York
X-LIC-LOCATION:America/New_York
BEGIN:DAYLIGHT
DTSTART:20240310T030000
TZOFFSETFROM:-0500
TZOFFSETTO:-0400
TZNAME:EDT
END:DAYLIGHT
END:VTIMEZONE
END:VCALENDAR