BEGIN:VCALENDAR
VERSION:2.0
PRODID:-//wp-events-plugin.com//7.2.3.1//EN
TZID:America/New_York
X-WR-TIMEZONE:America/New_York
BEGIN:VEVENT
UID:347@breatheatlanta.us
DTSTART;TZID=America/New_York:20240727T180000
DTEND;TZID=America/New_York:20240727T220000
DTSTAMP:20240627T105615Z
URL:https://breatheatlanta.us/events/fly-iyawo-collection-debut/
SUMMARY:FLY Iyawo Collection Debut
DESCRIPTION:Step into an evening of sophistication and style at the highly 
 anticipated FLY Iyawo Collection Launch event! Taking place on Saturday\, 
 July 27\, 2024\, at the esteemed Midtown Collective Atlanta\, this exclusi
 ve affair promises to be an unforgettable fusion of fashion\, culture\, an
 d community.\n\nEvent Highlights:\n\nFashion Forward: Be among the first t
 o witness the debut of the FLY Iyawo Collection\, a manifestation of elega
 nce and spiritual inspiration. Featuring exquisite designs that blend cont
 emporary trends with cultural richness\, this collection reflects the esse
 nce of empowerment and individuality.\n\nCulinary Delights: Indulge your p
 alate with tantalizing bites and sip on craft cocktails as you immerse you
 rself in the ambiance of creativity and sophistication. The culinary offer
 ings complement the evening's celebration of style and self-expression.\n\
 nNetworking and Connection: Mingle with like-minded fashion enthusiasts\, 
 spiritual seekers\, and influencers in a vibrant atmosphere designed to fo
 ster connections and inspire conversation. Whether you're a connoisseur of
  haute couture or simply passionate about cultural expression\, this event
  offers a unique opportunity to engage with a diverse community of trendse
 tters.\n\nWhy Attend?\n\nThe FLY Iyawo Collection Debut is more than just 
 a fashion event—it's a celebration of identity\, creativity\, and the in
 tersection of style and spirituality. Experience firsthand the synergy of 
 fashion and cultural heritage\, as interpreted through the visionary lens 
 of FLY Iyawo.\n\nJoin Us:\n\nSecure your place at this exclusive event and
  immerse yourself in an evening of fashion\, fun\, and flyness. Mark your 
 calendars for Saturday\, July 27\, 2024\, at Midtown Collective Atlanta. D
 on't miss your chance to be part of a momentous occasion where elegance me
 ets enlightenment. Purchase your tickets now and elevate your experience w
 ith the debut of the FLY Iyawo Collection!\n\nGET TICKETS\n
ATTACH;FMTTYPE=image/jpeg:https://breatheatlanta.us/wp-content/uploads/202
 4/06/FLY-Iyawo-Collection-Debut.jpg
CATEGORIES:Arts &amp; Performances,Things To Do
LOCATION:Midtown Collective Atlanta\, 1429 Fairmont Avenue Northwest #Suite
  N Atlanta\,  GA\,  United States\, 30318\, GA\, United States
X-APPLE-STRUCTURED-LOCATION;VALUE=URI;X-ADDRESS=1429 Fairmont Avenue Northw
 est #Suite N Atlanta\,  GA\,  United States\, 30318\, GA\, United States;X
 -APPLE-RADIUS=100;X-TITLE=Midtown Collective Atlanta:geo:0,0
END:VEVENT
BEGIN:VTIMEZONE
TZID:America/New_York
X-LIC-LOCATION:America/New_York
BEGIN:DAYLIGHT
DTSTART:20240310T030000
TZOFFSETFROM:-0500
TZOFFSETTO:-0400
TZNAME:EDT
END:DAYLIGHT
END:VTIMEZONE
END:VCALENDAR