BEGIN:VCALENDAR
VERSION:2.0
PRODID:-//wp-events-plugin.com//7.2.3.1//EN
TZID:America/New_York
X-WR-TIMEZONE:America/New_York
BEGIN:VEVENT
UID:125@breatheatlanta.us
DTSTART;TZID=America/New_York:20240417T143000
DTEND;TZID=America/New_York:20240417T153000
DTSTAMP:20240323T091200Z
URL:https://breatheatlanta.us/events/foot-health-find-your-stride/
SUMMARY:Foot Health: Find Your Stride
DESCRIPTION:\n\n\n\n\n\n\n\n\n\n\n\n\nRenaissance on Peachtree for an enlig
 htening session dedicated to ensuring your feet remain happy\, healthy\, a
 nd free from pain! Our gathering aims to equip you with the knowledge and 
 tools necessary to maintain optimal foot health. Led by experts in the fie
 ld\, you'll discover valuable insights and practical tips to support your 
 journey towards happy and pain-free feet.\n\nEvent Information:\n\nEvent N
 ame: Foot Health: Find Your Stride\n\nHost: Foot Solutions Brookhaven\n\nD
 ate and Time: Wednesday\, April 17 • 2:30 - 3:30 pm EDT\n\nLocation: Ren
 aissance on Peachtree\, 3755 Peachtree Road Northeast #NE Atlanta\, GA 303
 19\, United States\n\nTicket Price: General Admission - Free\n\n&nbsp\;\n\
 nGET TICKETS\n\nAbout this Event: Renaissance on Peachtree for "Foot Heal
 th: Find Your Stride\," an informative seminar dedicated to keeping your f
 eet happy\, healthy\, and pain-free. Your feet are the foundation of your 
 health and play a crucial role in maintaining an active lifestyle.\n\nLed 
 by Gary Falcon\, owner of Foot Solutions Brookhaven\, this session will be
  both fun and informative. Topics covered include understanding the comple
 xity of your feet\, common foot ailments\, and symptoms\, solutions for pa
 in\, mobility\, and balance\, as well as tips on selecting supportive foot
 wear.\n\nRenaissance on Peachtree provides the perfect setting for this in
 -person gathering. To gain valuable insights into foot health and put your
  best foot forward towards a healthier lifestyle.\n\nWorkout Session Detai
 l:\n\nDuration: 1 hour\n\nInformative seminar on foot health\n\nTopics inc
 lude foot anatomy\, common foot ailments\, solutions\, and footwear select
 ion\n\nEssential for Attendees:\n\nOpen mind and willingness to learn abou
 t foot health\n\nNote-taking materials if desired\n\nParking Option: Not s
 pecified in the provided information.\n\n\n\n\n\n\n\n&nbsp\;\n\n\n\n\n\n\n
 \n\n\n\n\n\n\n\n\n\n\n\n\n\n\n
ATTACH;FMTTYPE=image/jpeg:https://breatheatlanta.us/wp-content/uploads/202
 4/03/77777777777777777.jpg
CATEGORIES:Wellness Events
LOCATION:Renaissance on Peachtree\, 3755 Peachtree Road Northeast #NE \, \,
  Atlanta\, United States\, 30319 \, GA \, United States
X-APPLE-STRUCTURED-LOCATION;VALUE=URI;X-ADDRESS=3755 Peachtree Road Northea
 st #NE \, \, Atlanta\, United States\, 30319 \, GA \, United States;X-APPL
 E-RADIUS=100;X-TITLE=Renaissance on Peachtree:geo:0,0
END:VEVENT
BEGIN:VTIMEZONE
TZID:America/New_York
X-LIC-LOCATION:America/New_York
BEGIN:DAYLIGHT
DTSTART:20240310T030000
TZOFFSETFROM:-0500
TZOFFSETTO:-0400
TZNAME:EDT
END:DAYLIGHT
END:VTIMEZONE
END:VCALENDAR