BEGIN:VCALENDAR
VERSION:2.0
PRODID:-//wp-events-plugin.com//7.2.3.1//EN
TZID:America/New_York
X-WR-TIMEZONE:America/New_York
BEGIN:VEVENT
UID:509@breatheatlanta.us
DTSTART;TZID=America/New_York:20241025T170000
DTEND;TZID=America/New_York:20241025T210000
DTSTAMP:20240928T071221Z
URL:https://breatheatlanta.us/events/footwork-foodtrucks-trunk-or-treat/
SUMMARY:Footwork & Foodtrucks Trunk or Treat
DESCRIPTION:The much-anticipated Footwork &amp\; Food Trucks Trunk or Treat
  event is returning this year\, just in time for Halloween! Families are i
 nvited to experience an electrifying day filled with soccer excitement and
  festive Halloween activities\, promising memories that will last a lifeti
 me.\n\nParticipants can showcase their skills in a friendly and fun atmosp
 here with opportunities for both 5v5 pick-up soccer games and a thrilling 
 3v3 costume tournament. This unique combination of athletic competition an
 d Halloween spirit is sure to entertain fans of all ages.\n\nAs families e
 njoy the soccer festivities\, the parking lot will be transformed into a H
 alloween haven for the Trunk or Treat portion of the event. Parents are en
 couraged to unleash their creativity by decorating their car trunks with s
 pooky themes and imaginative displays. Children can wander from trunk to t
 runk\, collecting treats and enjoying the festive decorations. To add an e
 xtra layer of excitement\, a prize of $250 will be awarded for the best Ha
 lloween trunk theme\, encouraging participants to bring their A-game in cr
 eativity!\n\nFood lovers will rejoice at the Food Truck Fiesta\, featuring
  a diverse selection of food trucks offering a mouthwatering array of savo
 ry and sweet treats. From gourmet snacks to delightful desserts\, there wi
 ll be something to satisfy every craving\, making it the perfect way to re
 fuel after all the fun.\n\nJoin in the festivities at Footwork &amp\; Food
  Trucks Trunk or Treat\, where the love of soccer meets the thrill of Hall
 oween. This event promises to be an unforgettable day of fun\, food\, and 
 community spirit\, ensuring that everyone leaves with full bellies and hap
 py hearts!\n\nGET TICKETS\n
ATTACH;FMTTYPE=image/jpeg:https://breatheatlanta.us/wp-content/uploads/202
 4/09/Footwork-Foodtrucks-Trunk-Treat.png
CATEGORIES:Food &amp; Drink Events,Sports &amp; Fitness Events,Things To
 Do
LOCATION:Henry County Soccer\, 307 N Mt Carmel Rd Hampton\, Atlanta\, Georg
 ia\, 30228\, GA\, United States
X-APPLE-STRUCTURED-LOCATION;VALUE=URI;X-ADDRESS=307 N Mt Carmel Rd Hampton\
 , Atlanta\, Georgia\, 30228\, GA\, United States;X-APPLE-RADIUS=100;X-TITL
 E=Henry County Soccer:geo:0,0
END:VEVENT
BEGIN:VTIMEZONE
TZID:America/New_York
X-LIC-LOCATION:America/New_York
BEGIN:DAYLIGHT
DTSTART:20240310T030000
TZOFFSETFROM:-0500
TZOFFSETTO:-0400
TZNAME:EDT
END:DAYLIGHT
END:VTIMEZONE
END:VCALENDAR