BEGIN:VCALENDAR
VERSION:2.0
PRODID:-//wp-events-plugin.com//7.2.3.1//EN
TZID:America/New_York
X-WR-TIMEZONE:America/New_York
BEGIN:VEVENT
UID:492@breatheatlanta.us
DTSTART;TZID=America/New_York:20241012T073000
DTEND;TZID=America/New_York:20241012T103000
DTSTAMP:20240925T125919Z
URL:https://breatheatlanta.us/events/fox-trot-run-5k-10k-13-1-atlanta/
SUMMARY:Fox Trot Run 5K/10K/13.1 ATLANTA
DESCRIPTION:The Fox Trot Run is an exciting event designed for runners who 
 cherish the joy of running with friends. This race is all about the shared
  experience\, not how fast you finish. Whether you choose the 5K\, 10K\, o
 r 13.1 Half-Marathon\, the goal is simply to cross the finish line togethe
 r\, celebrating friendship and fitness.\n\nEvent Overview: This run is hig
 hly popular and sells out quickly. Each wave will close as soon as it fill
 s up\, so participants are encouraged to register early. If you miss out o
 n a spot\, you can join the virtual run option or sign up for the waitlist
 . The event is a smaller\, private group run with limited spots per wave\,
  providing an intimate and friendly atmosphere. All paces and ages are wel
 come (participants under 18 must have a guardian present). Whether you're 
 walking or running\, everyone is encouraged to participate in this equipme
 nt-free event\, with coordinators on-site to offer support.\n\nTiming: Tra
 cking your run time is entirely optional. Participants may use popular fit
 ness apps like Strava\, RunKeeper\, or Nike Run to record their times and 
 submit them through an easy form to have results posted online. For those 
 who prefer assistance\, coordinators will be available to help track time.
  No timing chips will be used\, allowing for a stress-free race experience
  focused on personal achievement.\n\nWhat You Get (Swag Bag):\n\n 	Race T-
 shirt (shipped to the address you register with\, U.S. only)\n 	Finisher's
  towel or special giveaway\n 	Finisher's medal (shipped after the run—em
 ail organizers to receive it)\n 	Training pack and free giveaways\n 	(Opti
 onal) Online results and a certificate of completion\n 	(Optional) Upgrade
  to a technical\, moisture-wicking running shirt for just $5\n 	(Optional)
  Join the Running Club Near You! Club members can participate in three rac
 es a year at any location\, plus receive a hoodie\, tank top\, cap\, or cu
 stom name shirt\n 	Free lifetime access to the Run/Walk Club on Strava\n\n
 Packet Pickup: No packet pickup is needed—your swag is shipped directly 
 to your address. Please ensure your mailing information is accurate. Race 
 bibs will be distributed on race day.\n\nWhen Will You Get Your Swag? Expe
 ct to receive your race shirt at your mailing address the week of your rac
 e. For late registrations within two weeks of the event\, your shirt may a
 rrive after the race. You can wear any appropriate shirt to run.\n\nWave T
 imes: Participants can choose their preferred wave times\, which are avail
 able on a first-come\, first-served basis:\n\n 	Wave A: 7:30 AM\n 	Wave B:
  8:00 AM\n 	Wave C: 8:30 AM\n\nDuring the summer months (June-August)\, ea
 rlier wave times may be available to accommodate warmer weather. Participa
 nts will receive an email with updated start times the week of the race. L
 ate runners can still join up to three hours after the first wave begins.\
 n\nVirtual Run Option: The Fox Trot Run offers a unique virtual run option
 \, complete with a training pack and digital tools to support your run. Vi
 rtual participants can run at any location and time\, using any tracking d
 evice to monitor their progress. Once completed\, virtual runners can subm
 it their results to receive their medal via mail.\n\nRace Bundle: Sign up 
 for multiple races to receive a discount! If you complete three races\, yo
 u’ll receive a Custom Runner's Trophy as a special recognition instead o
 f the usual second and third medals.\n\nSponsorship &amp\; Business Promot
 ion: Fox Trot Run offers excellent sponsorship opportunities for businesse
 s looking to promote themselves while supporting a community event. For mo
 re information\, visit https://www.thebestraces.com/events.\n\nTeam Glo Vo
 lunteers: If you're passionate about community events and want to help oth
 ers achieve their fitness goals\, you can volunteer with Team Glo. To lear
 n more and sign up\, visit https://www.thebestraces.com/volunteer-form/.\n
 \nRun for Others: Make a Difference The Fox Trot Run is driven by four key
  fundraising themes: Cancer\, Water\, Education\, and Other Causes. These 
 values shape the event’s mission\, ensuring each race contributes to cre
 ating a more equitable and hopeful world. Non-profits and individuals inte
 rested in collaboration are encouraged to reach out at contact@thebestrace
 s.com or visit www.thebestracesjourney.com for further details\n\nGET TICK
 ETS\n
ATTACH;FMTTYPE=image/jpeg:https://breatheatlanta.us/wp-content/uploads/202
 4/09/Fox-Trot-Run-5K-10K-13.1-ATLANTA.jpg
CATEGORIES:Sports &amp; Fitness Events
LOCATION:South Peachtree Creek Trail\,  South Peachtree Creek Trail Decatur
 \, Atlanta\, Georgia\, 30033\, GA\, United States
X-APPLE-STRUCTURED-LOCATION;VALUE=URI;X-ADDRESS= South Peachtree Creek Trai
 l Decatur\, Atlanta\, Georgia\, 30033\, GA\, United States;X-APPLE-RADIUS=
 100;X-TITLE=South Peachtree Creek Trail:geo:0,0
END:VEVENT
BEGIN:VTIMEZONE
TZID:America/New_York
X-LIC-LOCATION:America/New_York
BEGIN:DAYLIGHT
DTSTART:20240310T030000
TZOFFSETFROM:-0500
TZOFFSETTO:-0400
TZNAME:EDT
END:DAYLIGHT
END:VTIMEZONE
END:VCALENDAR