BEGIN:VCALENDAR
VERSION:2.0
PRODID:-//wp-events-plugin.com//7.2.3.1//EN
TZID:America/New_York
X-WR-TIMEZONE:America/New_York
BEGIN:VEVENT
UID:225@breatheatlanta.us
DTSTART;TZID=America/New_York:20240508T153000
DTEND;TZID=America/New_York:20240508T163000
DTSTAMP:20240404T102524Z
URL:https://breatheatlanta.us/events/free-chair-yoga-at-jefferson-library/
SUMMARY:FREE Chair Yoga at Jefferson Library
DESCRIPTION:Feel rejuvenated with our inclusive chair yoga session! Whether
  you prefer a seated practice or standing\, all are welcome to join. Leave
  feeling refreshed\, relaxed\, and renewed after an hour of gentle movemen
 t and mindfulness.\n\nEvent Name: FREE Chair Yoga at Jefferson Library\nHo
 st: Carol Osborne\nDate and time: Wednesday\, May 8 • 3:30 - 4:30pm EDT\
 nAbout this Event: All are welcome to  for a revitalizing session of chai
 r yoga at the Jefferson Public Library. Chairs are provided for a fully se
 ated practice\, or participants have the option to stand. Leave feeling re
 freshed\, relaxed\, and renewed!\nTicket Price: FREE\n\nGET TICKETS\n\nLoc
 ation: Jefferson Public Library\, 1000 Washington Street\, Jefferson\, GA 
 30549\, United States\nWorkout session detail: Participants will engage in
  chair yoga exercises designed to promote relaxation\, flexibility\, and m
 indfulness.\nEssential for Bringing: Comfortable clothing and a water bott
 le.\nParking option: Parking is available at the Jefferson Public Library.
ATTACH;FMTTYPE=image/jpeg:https://breatheatlanta.us/wp-content/uploads/202
 4/04/kakakkaa.jpg
CATEGORIES:Wellness Events,Yoga Events
LOCATION:Jefferson Public Library\,   1000 Washington Street \, \, Jefferso
 n\, United States\, 30549 \, GA \, United States
X-APPLE-STRUCTURED-LOCATION;VALUE=URI;X-ADDRESS=  1000 Washington Street \,
  \, Jefferson\, United States\, 30549 \, GA \, United States;X-APPLE-RADIU
 S=100;X-TITLE=Jefferson Public Library:geo:0,0
END:VEVENT
BEGIN:VTIMEZONE
TZID:America/New_York
X-LIC-LOCATION:America/New_York
BEGIN:DAYLIGHT
DTSTART:20240310T030000
TZOFFSETFROM:-0500
TZOFFSETTO:-0400
TZNAME:EDT
END:DAYLIGHT
END:VTIMEZONE
END:VCALENDAR