BEGIN:VCALENDAR
VERSION:2.0
PRODID:-//wp-events-plugin.com//7.2.3.1//EN
TZID:America/New_York
X-WR-TIMEZONE:America/New_York
BEGIN:VEVENT
UID:698@breatheatlanta.us
DTSTART;TZID=America/New_York:20241123T170000
DTEND;TZID=America/New_York:20241123T173000
DTSTAMP:20241024T171449Z
URL:https://breatheatlanta.us/events/free-heartfulness-meditation-sessions
 -at-ambaji-usa-shree-shakti-mandir/
SUMMARY:Free Heartfulness Meditation Sessions at Ambaji USA - Shree Shakti 
 Mandir
DESCRIPTION:Experience the calming and transformative power of Heartfulness
  Meditation with free sessions held every Saturday at the Community Center
  in Ambaji USA - Shree Shakti Mandir. These weekly gatherings\, known as H
 eartful Saturdays\, offer an opportunity to take a break from your busy li
 fe\, release stress\, and connect deeply with your heart.\n\nHeartfulness 
 Meditation is a gentle yet profound practice that enables you to access de
 eper layers of your consciousness\, fostering inner peace\, joy\, and a se
 nse of fulfillment. It's designed for anyone—whether you're new to medit
 ation or an experienced practitioner—offering tools to help you reconnec
 t with your true essence and experience lasting calm in your daily life.\n
 \nWhat to Expect:\n\n 	Free Meditation Sessions: Join us for complimentary
  meditation sessions that help you unwind and center yourself after a hect
 ic week.\n 	Stress Relief &amp\; Inner Peace: Through guided techniques\, 
 participants will learn to release stress\, restore mental balance\, and f
 oster a state of inner tranquility.\n 	Beginner-Friendly: No prior experie
 nce is necessary. Simply bring an open heart and mind\, ready to relax and
  embrace the meditative journey.\n 	Comfortable Seating: Chairs will be pr
 ovided for your comfort\, but you are welcome to bring a mat or cushion if
  you prefer to sit on the floor.\n\nSchedule &amp\; Preparation:\n\nPlease
  arrive by 4:45 p.m.\, allowing the trainer time to introduce you to the p
 rocess and explain the meditation techniques before the session begins at 
 5:00 p.m. The guided meditation will take you through a journey of self-di
 scovery\, offering tools to help you connect with the subtle dimensions of
  your being.\n\nEmbark on a Transformative Journey\n\nHeartfulness Meditat
 ion is more than just a stress-relief practice—it’s a path to self-dis
 covery and deeper awareness. By learning to connect with the heart\, you c
 ultivate a life filled with serenity\, joy\, and love. Each session provid
 es you with simple but powerful techniques to experience a profound sense 
 of calm and access the subtler layers of consciousness.\n\nFor a brief ove
 rview of the Heartfulness practice\, you can watch a short video that expl
 ains the essence of this transformative meditation technique.\n\nJoin Us!\
 n\nIf you’re seeking a peaceful way to unwind and enhance your well-bein
 g\, these sessions offer a welcoming\, inclusive environment to explore me
 ditation. Whether you come for relaxation\, personal growth\, or a deeper 
 connection with yourself\, Heartful Saturdays at Ambaji USA - Shree Shakti
  Mandir are a perfect space to embark on your journey to inner peace.\n\nG
 ET TICKETS\n
ATTACH;FMTTYPE=image/jpeg:https://breatheatlanta.us/wp-content/uploads/202
 4/10/Free-Heartfulness-Meditation-Sessions-at-Ambaji-USA-Shree-Shakti-Mand
 ir.jpg
CATEGORIES:Wellness Events
LOCATION:Ambaji USA - Shree Shakti Mandir\, 1450 Huie Road Lake City\, Atla
 nta\, Georgia\, 30260\, GA\, United States
X-APPLE-STRUCTURED-LOCATION;VALUE=URI;X-ADDRESS=1450 Huie Road Lake City\, 
 Atlanta\, Georgia\, 30260\, GA\, United States;X-APPLE-RADIUS=100;X-TITLE=
 Ambaji USA - Shree Shakti Mandir:geo:0,0
END:VEVENT
BEGIN:VTIMEZONE
TZID:America/New_York
X-LIC-LOCATION:America/New_York
BEGIN:STANDARD
DTSTART:20241103T010000
TZOFFSETFROM:-0400
TZOFFSETTO:-0500
TZNAME:EST
END:STANDARD
END:VTIMEZONE
END:VCALENDAR