BEGIN:VCALENDAR
VERSION:2.0
PRODID:-//wp-events-plugin.com//7.2.3.1//EN
TZID:America/New_York
X-WR-TIMEZONE:America/New_York
BEGIN:VEVENT
UID:173@breatheatlanta.us
DTSTART;TZID=America/New_York:20240425T190000
DTEND;TZID=America/New_York:20240425T200000
DTSTAMP:20240905T132254Z
URL:https://breatheatlanta.us/events/free-online-in-person-yoga-meditation
 -metro-atlanta/
SUMMARY:Free Online & In-person Yoga Meditation - Metro Atlanta
DESCRIPTION:\n\n\n\n\n\n\n\n\n\n\n\n\nThrough the transformative practice o
 f Sahaja Yoga meditation\, we embark on a journey to illuminate our inner 
 essence—the true self—characterized by purity\, joy\, satisfaction\, a
 nd a profound sense of completeness.\n\nEvent Information:\n\nEvent: Free 
 Online &amp\; In-person Yoga Meditation - Metro Atlanta\n\nOrganize By: S
 ahaja Yoga\n\nDate and Time: Thursday\, April 25\, 7:00 - 8:00 PM EDT.\n\n
 Location: 1688 Buford Hwy\, Cumming\, GA 30041\, United States\n\nTicket I
 nformation:\n\nTicket Price: Free\n\nGET TICKETS\n\n\n\nAbout this Event: 
 A transformative session of yoga meditation\, facilitated by Sahaja Yoga.
  Through this practice\, we aim to enlighten our inner being\, tapping int
 o our true self\, characterized by purity\, joy\, satisfaction\, and compl
 eteness.\n\nWorkout Session Detail: Experience an hour of deep introspecti
 on and spiritual rejuvenation as we delve into the practice of Sahaja Yoga
  meditation. Whether joining online via Zoom or in-person at 1688 Buford H
 wy\, Cumming\, GA\, immerse yourself in this transformative journey toward
 s inner peace and fulfillment.\n\nEssentials to Bring: For in-person parti
 cipation\, bring a yoga mat or any other accessories that enhance your med
 itation experience. For online participation\, ensure access to a quiet sp
 ace and a stable internet connection.\n\nParking Option: Specific parking 
 information is not provided. Please check local parking availability near 
 1688 Buford Hwy\, Cumming\, GA.\n\nEmbark on this journey of self-discover
 y and inner harmony\, and to explore the boundless potential of yoga medit
 ation\, free of charge.\n\n\n\n\n\n\n\n\n\n\n\n\n\n
ATTACH;FMTTYPE=image/jpeg:https://breatheatlanta.us/wp-content/uploads/202
 4/03/https___cdn.evbuc_.com_images_576599849_290262503530_1_original.jpeg
CATEGORIES:Wellness Events,Yoga Events
LOCATION:1688 Buford Hwy\, 1688 Buford Highway Cumming\, GA 30041 United St
 ates\, GA \, United States\,  30041\, GA\, United States
X-APPLE-STRUCTURED-LOCATION;VALUE=URI;X-ADDRESS=1688 Buford Highway Cumming
 \, GA 30041 United States\, GA \, United States\,  30041\, GA\, United Sta
 tes;X-APPLE-RADIUS=100;X-TITLE=1688 Buford Hwy:geo:0,0
END:VEVENT
BEGIN:VTIMEZONE
TZID:America/New_York
X-LIC-LOCATION:America/New_York
BEGIN:DAYLIGHT
DTSTART:20240310T030000
TZOFFSETFROM:-0500
TZOFFSETTO:-0400
TZNAME:EDT
END:DAYLIGHT
END:VTIMEZONE
END:VCALENDAR