BEGIN:VCALENDAR
VERSION:2.0
PRODID:-//wp-events-plugin.com//7.2.3.1//EN
TZID:America/New_York
X-WR-TIMEZONE:America/New_York
BEGIN:VEVENT
UID:108@breatheatlanta.us
DTSTART;TZID=America/New_York:20240413T153000
DTEND;TZID=America/New_York:20240413T173000
DTSTAMP:20240905T133725Z
URL:https://breatheatlanta.us/events/free-reiki-infused-yoga-and-meditatio
 n/
SUMMARY:FREE Reiki Infused Yoga and Meditation
DESCRIPTION:This complimentary VINYASA Yoga &amp\; Meditation Class offers 
 more than just physical exercise\; it's an opportunity for a holistic jour
 ney of self-discovery and inner healing. As you flow through the VINYASA s
 equence\, immerse yourself in the harmonious fusion of movement and breath
 \, guiding you toward a state of tranquility and balance. What sets this c
 lass apart is the inclusion of distant Reiki during the meditation session
 . As you find stillness in meditation\, you'll also receive the healing en
 ergy of Reiki\, promoting relaxation\, restoration\, and spiritual connect
 ion. Join us for this transformative experience and discover the profound 
 benefits of combining yoga\, meditation\, and Reiki.\n\nEvent Information:
 \n\nEvent Name: FREE Reiki Infused Yoga and Meditation\n\nHost: Healing Ha
 nds Reiki &amp\; Spiritual Development Inc.\n\nDate and Time: Saturday\, A
 pril 13 • 3:30 - 5:30 pm EDT\n\nAbout this Event: Experience the transfo
 rmative power of Reiki Infused Yoga and Meditation in this FREE VINYASA cl
 ass led by Tiffany Monroe\, Founder &amp\; CEO/President of Healing Hands 
 Reiki &amp\; Spiritual Development Inc. Dive into a holistic journey of se
 lf-awareness and relaxation as you explore the fusion of yoga\, meditation
 \, and Reiki\, aimed at nurturing your mind\, body\, and spirit.\n\nTicket
  Information:\n\n1 x Reiki Infused Yoga &amp\; Meditation Class - $0.00\n\
 nDelivery: eTicket - $0.00\n\nTotal: $0.00\n\n&nbsp\;\n\nGET TICKETS\n\n&n
 bsp\;\n\nWorkout Session Detail: Engage in a VINYASA Yoga &amp\; Meditatio
 n Class infused with the healing energy of Reiki. Delve into gentle yet em
 powering movements that foster strength\, flexibility\, concentration\, an
 d breathwork\, guiding you toward a state of inner harmony and balance.\n\
 nEssential for Bring:\n\nBring your mat\, blanket\, and/or pillow for adde
 d comfort.\n\nDon't forget to bring a composition book for journaling your
  reflections.\n\nParking Option: Free parking is available at the venue in
  our Red\, Purple\, or Green decks. Refer to batteryatl.com for parking de
 tails.\n\nLocation: Healing Hands Reiki &amp\; Spiritual Development Inc. 
 27 Waddell Street NE Suite A (Upstairs) Atlanta\, GA 30307 United States\n
 \nDisclaimer: By attending this class\, you acknowledge and agree to the t
 erms outlined in the liability disclaimer provided by Healing Hands Reiki 
 &amp\; Spiritual Development Inc. You grant permission for the use of your
  likeness in event publications and waive any liability claims associated 
 with your participation.\n\nFor further information and registration\, vis
 it the Eventbrite page: FREE Reiki Infused Yoga and Meditation.
ATTACH;FMTTYPE=image/jpeg:https://breatheatlanta.us/wp-content/uploads/202
 4/03/99999999999.jpg
CATEGORIES:Wellness Events,Yoga Events
LOCATION:Healing Hands Reiki & Spiritual Development Inc\, 27 Waddell Stree
 t NE Suite A (Upstairs) \, \, Atlanta\, United States\, 30307 \, GA \, Uni
 ted States
X-APPLE-STRUCTURED-LOCATION;VALUE=URI;X-ADDRESS=27 Waddell Street NE Suite 
 A (Upstairs) \, \, Atlanta\, United States\, 30307 \, GA \, United States;
 X-APPLE-RADIUS=100;X-TITLE=Healing Hands Reiki & Spiritual Development Inc
 :geo:0,0
END:VEVENT
BEGIN:VTIMEZONE
TZID:America/New_York
X-LIC-LOCATION:America/New_York
BEGIN:DAYLIGHT
DTSTART:20240310T030000
TZOFFSETFROM:-0500
TZOFFSETTO:-0400
TZNAME:EDT
END:DAYLIGHT
END:VTIMEZONE
END:VCALENDAR