BEGIN:VCALENDAR
VERSION:2.0
PRODID:-//wp-events-plugin.com//7.2.3.1//EN
TZID:America/New_York
X-WR-TIMEZONE:America/New_York
BEGIN:VEVENT
UID:136@breatheatlanta.us
DTSTART;TZID=America/New_York:20240406T100000
DTEND;TZID=America/New_York:20240406T110000
DTSTAMP:20240905T133906Z
URL:https://breatheatlanta.us/events/free-saturday-hiit-workout-class/
SUMMARY:Free Saturday HIIT Workout Class
DESCRIPTION:Prepare yourself to unleash a sweat-fueled experience at our Fr
 ee Saturday HIIT Class. Brace yourself for a heart-pounding\, high-intensi
 ty workout designed to push your limits and ignite your inner fire.\n\nEve
 nt Information:\n\nEvent Name: Free Saturday HIIT Workout Class\n\nHost: J
 amieThemotivator\n\nDate and Time: Saturday\, April 6 • 10:00 AM - 11:00
  AM EDT\n\nLocation: Jamie The Motivator\, 3365 West Hospital Avenue #Suit
 e G\, Chamblee\, GA 30341\, United States\n\nAbout this Event:\n\nA Free S
 aturday HIIT Class hosted by JamieThemotivator. Prepare to break a sweat a
 nd elevate your fitness game with our high-intensity interval training (HI
 IT) session. Whether you're a seasoned athlete or just starting your fitne
 ss journey\, this class offers a challenging and rewarding workout experie
 nce.\n\nTicket Information:\n\n1 x General Admission: $0.00 (Free)\n\nDeli
 very: eTicket\n\nGET TICKETS\n\nWorkout Session Detail:\n\n10:00 AM - 10:4
 5 AM: HIIT Workout led by JTM FITNESS TEAM\n\n10:45 AM - 11:00 AM: Self Ca
 re Conversation and Meditation led by JTM FITNESS TEAM\n\nEssentials for A
 ttendees:\n\nComfortable workout attire suitable for high-intensity exerci
 se.\n\nWater bottle for hydration.\n\nTowel for sweat absorption.\n\nPosit
 ive mindset and willingness to push your limits.\n\nParking Option:\n\nPar
 king details were not provided. Attendees are encouraged to inquire about 
 parking availability at Jamie the Motivator or nearby locations.\n\n&nbsp\
 ;
ATTACH;FMTTYPE=image/jpeg:https://breatheatlanta.us/wp-content/uploads/202
 4/03/QQQQQ.jpg
CATEGORIES:Wellness Events
LOCATION:Jamie The Motivator\,  3365 West Hospital Avenue #Suite G \, \, Ch
 amblee\, United States\, 30341 \, GA \, United States
X-APPLE-STRUCTURED-LOCATION;VALUE=URI;X-ADDRESS= 3365 West Hospital Avenue 
 #Suite G \, \, Chamblee\, United States\, 30341 \, GA \, United States;X-A
 PPLE-RADIUS=100;X-TITLE=Jamie The Motivator:geo:0,0
END:VEVENT
BEGIN:VTIMEZONE
TZID:America/New_York
X-LIC-LOCATION:America/New_York
BEGIN:DAYLIGHT
DTSTART:20240310T030000
TZOFFSETFROM:-0500
TZOFFSETTO:-0400
TZNAME:EDT
END:DAYLIGHT
END:VTIMEZONE
END:VCALENDAR