BEGIN:VCALENDAR
VERSION:2.0
PRODID:-//wp-events-plugin.com//7.2.3.1//EN
TZID:America/New_York
X-WR-TIMEZONE:America/New_York
BEGIN:VEVENT
UID:270@breatheatlanta.us
DTSTART;TZID=America/New_York:20240523T204500
DTEND;TZID=America/New_York:20240523T220000
DTSTAMP:20240513T104226Z
URL:https://breatheatlanta.us/events/full-moon-candle-light-meditation/
SUMMARY:Full Moon Candle Light Meditation
DESCRIPTION:\nJoin the Georgia Meditation Center for a Monthly Full Moon Me
 ditation!\nSeeking inner peace and connection? The Georgia Meditation Cent
 er invites you to participate in their captivating Full Moon Meditation\, 
 held monthly in conjunction with meditation centers across the US and worl
 dwide.\nA Community of Inner Light:\n\n\n 	Unite with Others: This event p
 rovides a beautiful opportunity to join a community of like-minded individ
 uals\, all seeking the calming and transformative power of meditation. Exp
 erience the joy of collective practice and cultivate inner brightness toge
 ther.\n\nOpen to All:\n\n\n 	Free Event: The Georgia Meditation Center bel
 ieves that meditation should be accessible to everyone. This monthly event
  is entirely free of charge.\n 	Supporting Sustainability: If you're able\
 , consider becoming a "Pay It Forward Patron" or making a donation. Your g
 enerosity allows the center to continue offering free events and share the
  benefits of meditation with the wider community.\n\nEvent Schedule:\n\n\n
  	8:45 PM - Arrive &amp\; Connect: Warm up for the evening by arriving aro
 und 8:45 pm. Socialize with fellow participants\, enjoy complimentary snac
 ks\, and settle into the serene meditation hall.\n 	9:00 PM - Opening Word
 s &amp\; Wisdom Talk: The evening begins with opening remarks\, followed b
 y an insightful wisdom talk delivered by a resident monk. Gain valuable in
 sights and inspiration to guide your meditation practice.\n 	9:20 PM - Gui
 ded Meditation &amp\; Loving-Kindness: Embark on a guided meditation led b
 y a seasoned practitioner. This guided session will help you achieve a sta
 te of inner peace and mindfulness. Following the meditation\, engage in a 
 loving-kindness practice\, sending compassion and well-being to yourself a
 nd others.\n 	10:00 PM - Optional Q&amp\;A/Wrap-Up: End the evening with a
 n optional Q&amp\;A session. Feel free to ask any questions you may have a
 bout meditation or the experience.\n\nJoin the Georgia Meditation Center o
 n this monthly journey towards inner peace and connection. Experience the 
 transformative power of meditation under the glow of the full moon!\nHasht
 ags:\n#FullMoonMeditation #MeditationCommunity #InnerPeace #FreeEvent #Geo
 rgiaMeditationCenter #LovingKindness\n\n\n\nBUY TICKETS\n
ATTACH;FMTTYPE=image/jpeg:https://breatheatlanta.us/wp-content/uploads/202
 4/05/https___cdn.evbuc_.com_images_764981109_5031426157_1_original.jpeg
CATEGORIES:Wellness Events
LOCATION:Georgia Meditation Center\,   4522 Tilly Mill \, \, Road Atlanta\,
  United States\, 30360 \, GA \, United States
X-APPLE-STRUCTURED-LOCATION;VALUE=URI;X-ADDRESS=  4522 Tilly Mill \, \, Roa
 d Atlanta\, United States\, 30360 \, GA \, United States;X-APPLE-RADIUS=10
 0;X-TITLE=Georgia Meditation Center:geo:0,0
END:VEVENT
BEGIN:VTIMEZONE
TZID:America/New_York
X-LIC-LOCATION:America/New_York
BEGIN:DAYLIGHT
DTSTART:20240310T030000
TZOFFSETFROM:-0500
TZOFFSETTO:-0400
TZNAME:EDT
END:DAYLIGHT
END:VTIMEZONE
END:VCALENDAR