BEGIN:VCALENDAR
VERSION:2.0
PRODID:-//wp-events-plugin.com//7.2.3.1//EN
TZID:America/New_York
X-WR-TIMEZONE:America/New_York
BEGIN:VEVENT
UID:683@breatheatlanta.us
DTSTART;TZID=America/New_York:20241116T190000
DTEND;TZID=America/New_York:20241116T200000
DTSTAMP:20241024T144806Z
URL:https://breatheatlanta.us/events/full-moon-sound-bath/
SUMMARY:Full Moon Sound Bath
DESCRIPTION:The Full Moon Sound Bath at House of Light invites participants
  to a tranquil and transformative experience like no other. Taking place d
 uring the full moon\, this event offers the perfect moment to release nega
 tive energy and let go of anything that no longer serves you.\n\nAs attend
 ees enter the serene space\, they will be guided through a Sound Bath Jour
 ney\, where the soothing tones of various instruments will help them sink 
 into deep relaxation. This in-person event is designed to rejuvenate the m
 ind\, body\, and spirit\, creating an atmosphere of inner peace and renewa
 l.\n\nThe harmonious vibrations of the sound bath will wash away stress an
 d tension\, allowing participants to recharge and experience a heightened 
 sense of well-being. The Full Moon's energy enhances the practice\, making
  it a powerful moment for self-care and introspection.\n\nHouse of Light p
 rovides mats\, pillows\, and blankets for optimal comfort\, though guests 
 are encouraged to bring any personal items to further enhance their experi
 ence. Comfortable clothing is recommended\, as participants will be lying 
 down during the session\, although sitting is also an option.\n\nThis uniq
 ue event is ideal for those looking to unwind and connect with their inner
  selves. Spaces are limited\, so be sure to reserve your spot today and em
 bark on a peaceful\, meditative journey during the Full Moon Sound Bath at
  House of Light.\n\nParking is conveniently available at the back of the b
 uilding or street side.\n\nGET TICKETS\n
ATTACH;FMTTYPE=image/jpeg:https://breatheatlanta.us/wp-content/uploads/202
 4/10/Full-Moon-Sound-Bath.jpg
CATEGORIES:Wellness Events
LOCATION:House of Light\, 29 Jackson Street Newnan\, Atlanta\, Georgia\, 30
 263\, GA\, United States
X-APPLE-STRUCTURED-LOCATION;VALUE=URI;X-ADDRESS=29 Jackson Street Newnan\, 
 Atlanta\, Georgia\, 30263\, GA\, United States;X-APPLE-RADIUS=100;X-TITLE=
 House of Light:geo:0,0
END:VEVENT
BEGIN:VTIMEZONE
TZID:America/New_York
X-LIC-LOCATION:America/New_York
BEGIN:STANDARD
DTSTART:20241103T010000
TZOFFSETFROM:-0400
TZOFFSETTO:-0500
TZNAME:EST
END:STANDARD
END:VTIMEZONE
END:VCALENDAR