BEGIN:VCALENDAR
VERSION:2.0
PRODID:-//wp-events-plugin.com//7.2.3.1//EN
TZID:America/New_York
X-WR-TIMEZONE:America/New_York
BEGIN:VEVENT
UID:76@breatheatlanta.us
DTSTART;TZID=America/New_York:20240405T160000
DTEND;TZID=America/New_York:20240405T200000
DTSTAMP:20240322T111036Z
URL:https://breatheatlanta.us/events/gain-friends/
SUMMARY:gain. Friends
DESCRIPTION:\n\n\n\n\n\n\n\n\n\n\n\n\nAn enriching community event that tra
 nscends the boundaries of health\, wellness\, and fitness\, all while enjo
 ying a refreshing brew in the company of like-minded enthusiasts. This uni
 que gathering serves as a platform to foster connections\, share experienc
 es\, and explore various aspects of holistic well-being. Whether you're a 
 seasoned fitness aficionado or just beginning your wellness journey\, this
  event offers an opportunity to engage in meaningful conversations\, excha
 nge insights\, and discover new perspectives. We celebrate the synergy bet
 ween mind\, body\, and spirit\, all while savoring delicious brews and for
 ging lasting connections within our vibrant community of health and wellne
 ss enthusiasts.\n\n\n\n\n\n\n\n\n\n\n\n\n\nEvent Information:\n\n 	\n\n 	\
 n\n 	Date and Time: Friday\, April 5\, from 4:00 to 8:00 pm EDT\n 	Locatio
 n: Red's Beer Garden\, 1328 Boulevard Southeast Atlanta\, GA 30315\, Unite
 d States\n 	Ticket Price: Free\n\nGET TICKETS\n\n\n\n\n\n\nAbout this Even
 t:\n\nRed's Beer Garden for an evening filled with friendship and connecti
 on. We're thrilled to announce that Red's Beer Garden has partnered with u
 s for this Gain Connection event\, aimed at fostering relationships and ca
 maraderie among women in Atlanta's health\, wellness\, and fitness communi
 ties.\n\nDuring this 4-hour event\, feel free to drop by at your convenien
 ce. Not only will you enjoy a night of ease\, shared energy\, conversation
 \, and fun\, but 10% of your total bill will also be donated to gain. This
  contribution will support the opening of our gym space\, slated for late 
 Summer 2024.\n\nWhether you're coming with friends\, your significant othe
 r\, or just looking for a chance to connect\, we welcome you. And don't he
 sitate to strike up a conversation with Katie &amp\; Erin about gain.\, fi
 tness\, or anything else on your heart or mind.\n\nErin &amp\; Katie\n\nWo
 rkout Session Detail: Unfortunately\, there won't be a structured workout 
 session during this event. However\, we encourage you to take advantage of
  the lively atmosphere and consider engaging in some light physical activi
 ty\, such as walking around the garden or participating in impromptu group
  activities.\n\nEssential for Bring: While there are no specific items req
 uired for this event\, we suggest bringing comfortable attire and a positi
 ve attitude ready to mingle and connect with fellow attendees.\n\nParking 
 Option: Parking is available at Red's Beer Garden. However\, availability 
 may vary depending on the time of arrival\, so we recommend arriving early
  to secure a spot. Additionally\, consider carpooling or utilizing ride-sh
 aring services for convenience.
ATTACH;FMTTYPE=image/jpeg:https://breatheatlanta.us/wp-content/uploads/202
 4/03/https___cdn.evbuc_.com_images_697440479_261559052062_1_original.jpg
CATEGORIES:Wellness Events,Yoga Events
LOCATION:Red's Beer Garden\, 1328 Boulevard Southeast Atlanta\, GA 30315 Un
 ited States\, GA \,  United States\, 30315\, GA \, United States
X-APPLE-STRUCTURED-LOCATION;VALUE=URI;X-ADDRESS=1328 Boulevard Southeast At
 lanta\, GA 30315 United States\, GA \,  United States\, 30315\, GA \, Unit
 ed States;X-APPLE-RADIUS=100;X-TITLE=Red's Beer Garden:geo:0,0
END:VEVENT
BEGIN:VTIMEZONE
TZID:America/New_York
X-LIC-LOCATION:America/New_York
BEGIN:DAYLIGHT
DTSTART:20240310T030000
TZOFFSETFROM:-0500
TZOFFSETTO:-0400
TZNAME:EDT
END:DAYLIGHT
END:VTIMEZONE
END:VCALENDAR