BEGIN:VCALENDAR
VERSION:2.0
PRODID:-//wp-events-plugin.com//7.2.3.1//EN
TZID:America/New_York
X-WR-TIMEZONE:America/New_York
BEGIN:VEVENT
UID:662@breatheatlanta.us
DTSTART;TZID=America/New_York:20241026T120000
DTEND;TZID=America/New_York:20241026T150000
DTSTAMP:20241018T093954Z
URL:https://breatheatlanta.us/events/gain-x-jolene-jolene-halloween-olympi
 cs/
SUMMARY:gain. x Jolene Jolene Halloween Olympics
DESCRIPTION:Get ready for a spooky twist on competition with the first annu
 al Halloween Olympics\, brought to you by gain. and Jolene Jolene\, in par
 tnership with Working Families Party! This unique event is your chance to 
 enjoy a day filled with games\, friendly competition\, and Halloween fun\,
  all while connecting with friends\, family\, and the local community.\nEv
 ent Highlights:\n\n 	Date: Mark your calendars for an unforgettable day of
  Olympic-style fun with a Halloween twist!\n 	Admission: Free entry to com
 e and hang out—bring your friends\, family\, and all the Halloween spiri
 t! Want to compete in the events? It's just $15 per person if you register
  in advance or $20 on the day of the event.\n 	Teams: Compete in teams of 
 2 for a shot at the grand prize and ultimate glory!\n\nWhat’s Included f
 or Participants:\n\n 	Tote Bag: Every player will receive a special event 
 tote bag filled with Halloween goodies.\n 	Raffle Entry: You’ll also get
  one raffle ticket for a chance to win awesome prizes.\n 	Games &amp\; Med
 als: Compete in a variety of games like cornhole and other festive challen
 ges! Medals will be awarded\, and the 1st place team will take home a Jole
 ne Jolene bar tab and a free month of membership to gain.\n\nFun for Every
 one:\n\n 	Vendor Booths: Explore booths offering swag\, goodies\, and raff
 le prizes. Expect exciting items like a Jolene Jolene swag basket\, gain's
  glimmer basket\, and other surprises like a free physical therapy visit\,
  coffee\, bourbon\, and more!\n 	Costume Contest: Show off your Halloween 
 creativity with a costume contest judged on creativity\, durability\, and 
 execution. The lucky winner will receive a delicious carrot cake!\n\nCome 
 for the games\, stay for the fun! With plenty of activities\, swag\, and c
 hances to win\, this event is sure to be a Halloween celebration like no o
 ther. Whether you’re competing or just cheering on your favorite team\, 
 this is an event you won’t want to miss!\n\nGET TICKETS\n
ATTACH;FMTTYPE=image/jpeg:https://breatheatlanta.us/wp-content/uploads/202
 4/10/gain.-x-Jolene-Jolene-Halloween-Olympics.jpg
CATEGORIES:Sports &amp; Fitness Events,Things To Do
LOCATION:Grant Park Gateway - Parking\, 759 Boulevard Southeast Atlanta\, A
 tlanta\, Georgia\, 30308 \,  GA\, United States
X-APPLE-STRUCTURED-LOCATION;VALUE=URI;X-ADDRESS=759 Boulevard Southeast Atl
 anta\, Atlanta\, Georgia\, 30308 \,  GA\, United States;X-APPLE-RADIUS=100
 ;X-TITLE=Grant Park Gateway - Parking:geo:0,0
END:VEVENT
BEGIN:VTIMEZONE
TZID:America/New_York
X-LIC-LOCATION:America/New_York
BEGIN:DAYLIGHT
DTSTART:20240310T030000
TZOFFSETFROM:-0500
TZOFFSETTO:-0400
TZNAME:EDT
END:DAYLIGHT
END:VTIMEZONE
END:VCALENDAR