BEGIN:VCALENDAR
VERSION:2.0
PRODID:-//wp-events-plugin.com//7.2.3.1//EN
TZID:America/New_York
X-WR-TIMEZONE:America/New_York
BEGIN:VEVENT
UID:762@breatheatlanta.us
DTSTART;TZID=America/New_York:20250215T120000
DTEND;TZID=America/New_York:20250215T140000
DTSTAMP:20250204T183147Z
URL:https://breatheatlanta.us/events/galentines-self-love-zumba-party-with
 -konsciousfit/
SUMMARY:Galentines Self-Love Zumba Party with KonsciousFit
DESCRIPTION:Experience the ultimate celebration of self-love and empowermen
 t at the Galentine’s Self-Love Zumba Party with KonsciousFit! This high-
 energy event invites participants to dance\, sweat\, and uplift their spir
 its in a vibrant and supportive atmosphere. Designed for all fitness level
 s\, this exhilarating Zumba session blends dynamic movements with infectio
 us rhythms\, encouraging attendees to shake off stress\, boost confidence\
 , and embrace their inner strength.\n\nMore than just a workout\, this Gal
 entine’s gathering is a joyful celebration of friendship\, positivity\, 
 and self-care. Whether joining solo or with a group of friends\, participa
 nts will leave feeling refreshed\, inspired\, and deeply connected to thei
 r bodies. Don’t miss this chance to prioritize well-being\, let loose\, 
 and make unforgettable memories. Secure a spot today and step into a space
  of movement\, joy\, and self-love!\n\nGET TICKETS\n
ATTACH;FMTTYPE=image/jpeg:https://breatheatlanta.us/wp-content/uploads/202
 5/02/Galentines-Self-Love-Zumba-Party-with-KonsciousFit.jpeg
CATEGORIES:Wellness Events
LOCATION:Galentine Self Love Zumba Party!\, Atlanta Atlanta\, Atlanta\, GA\
 , 30168\, GA\, United States
X-APPLE-STRUCTURED-LOCATION;VALUE=URI;X-ADDRESS=Atlanta Atlanta\, Atlanta\,
  GA\, 30168\, GA\, United States;X-APPLE-RADIUS=100;X-TITLE=Galentine Self
  Love Zumba Party!:geo:0,0
END:VEVENT
BEGIN:VTIMEZONE
TZID:America/New_York
X-LIC-LOCATION:America/New_York
BEGIN:STANDARD
DTSTART:20241103T010000
TZOFFSETFROM:-0400
TZOFFSETTO:-0500
TZNAME:EST
END:STANDARD
END:VTIMEZONE
END:VCALENDAR