BEGIN:VCALENDAR
VERSION:2.0
PRODID:-//wp-events-plugin.com//7.2.3.1//EN
TZID:America/New_York
X-WR-TIMEZONE:America/New_York
BEGIN:VEVENT
UID:724@breatheatlanta.us
DTSTART;TZID=America/New_York:20241116T170000
DTEND;TZID=America/New_York:20250112T220000
DTSTAMP:20241025T113910Z
URL:https://breatheatlanta.us/events/garden-lights-holiday-nights/
SUMMARY:Garden Lights\, Holiday Nights
DESCRIPTION:Garden Lights\, Holiday Nights is set to return for its 13th ye
 ar at the Atlanta Botanical Garden\, transforming the venue into a dazzlin
 g winter wonderland filled with sparkling lights. The beloved light specta
 cle will officially open on November 18\, with a special preview for garde
 n members on November 16. This enchanting event will run through the holid
 ay season until January 14\, 2024.\n\nVisitors can expect crowd favorites 
 like Nature’s Wonders\, renowned as the “world’s largest choreograph
 ed curtain of light and sound\,” combining stunning visuals with captiva
 ting music. Other highlights include the iconic Tunnel of Light\, perfect 
 for selfies\, and the Orchestral Orbs\, where guests can dance along with 
 glowing orbs.\n\nThis year introduces exciting new features\, including an
  exhibition by French artist Cédric LeBorgne in the Anne Cox Chambers Gar
 den\, along with a 144-foot-long skynet by Patrick Shearn of Poetic Kineti
 cs. Additionally\, the White Rabbit will return to the Skyline Garden pond
 \, hinting at the upcoming Alice’s Wonderland mosaiculture exhibition se
 t for 2024.\n\nRecognized as one of Atlanta's cherished holiday traditions
 \, Garden Lights\, Holiday Nights continues to earn accolades for its magi
 cal displays. Don’t miss this year’s spectacular celebration at the At
 lanta Botanical Garden!\n\nGET TICKETS\n
ATTACH;FMTTYPE=image/jpeg:https://breatheatlanta.us/wp-content/uploads/202
 4/10/Garden-Lights-Holiday-Nights.jpg
CATEGORIES:Nature Events,Things To Do
LOCATION:Atlanta Botanical Garden\, 1345 Piedmont Ave NE\, Atlanta\, Georgi
 a\, 30309\,  GA\, United States
X-APPLE-STRUCTURED-LOCATION;VALUE=URI;X-ADDRESS=1345 Piedmont Ave NE\, Atla
 nta\, Georgia\, 30309\,  GA\, United States;X-APPLE-RADIUS=100;X-TITLE=Atl
 anta Botanical Garden:geo:0,0
END:VEVENT
BEGIN:VTIMEZONE
TZID:America/New_York
X-LIC-LOCATION:America/New_York
BEGIN:STANDARD
DTSTART:20241103T010000
TZOFFSETFROM:-0400
TZOFFSETTO:-0500
TZNAME:EST
END:STANDARD
END:VTIMEZONE
END:VCALENDAR