BEGIN:VCALENDAR
VERSION:2.0
PRODID:-//wp-events-plugin.com//7.2.3.1//EN
TZID:America/New_York
X-WR-TIMEZONE:America/New_York
BEGIN:VEVENT
UID:489@breatheatlanta.us
DTSTART;TZID=America/New_York:20241019T183000
DTEND;TZID=America/New_York:20241019T210000
DTSTAMP:20240925T105221Z
URL:https://breatheatlanta.us/events/georgia-bmx-hall-of-fame/
SUMMARY:Georgia BMX Hall of Fame
DESCRIPTION:The Georgia BMX Hall of Fame stands as a testament to the rich 
 history and significant contributions of BMX (Bicycle Motocross) in the st
 ate of Georgia. Established to honor the individuals and organizations tha
 t have shaped the BMX culture\, this hall of fame celebrates the achieveme
 nts of riders\, innovators\, and enthusiasts who have played a pivotal rol
 e in promoting the sport.\n\nVisitors to the hall of fame can explore a co
 mprehensive collection of memorabilia\, including vintage bicycles\, photo
 graphs\, and artifacts that highlight the evolution of BMX over the years.
  The exhibits not only showcase the impressive skills and accomplishments 
 of legendary riders but also reflect the spirit of community that surround
 s BMX racing in Georgia.\n\nIn addition to honoring past and present BMX c
 hampions\, the Georgia BMX Hall of Fame serves as an educational resource\
 , offering insights into the sport's history\, development\, and its impac
 t on youth culture. Through events and programs\, the hall fosters a sense
  of camaraderie among BMX riders and encourages new generations to embrace
  the sport.\n\nAs a hub for BMX enthusiasts\, the Georgia BMX Hall of Fame
  plays a crucial role in preserving the legacy of BMX in the state while i
 nspiring future riders to pursue their passion for cycling and competition
 . Whether one is a long-time fan of BMX or a newcomer to the sport\, the h
 all of fame provides an engaging and memorable experience for all.\n\nGET 
 TICKETS\n
ATTACH;FMTTYPE=image/jpeg:https://breatheatlanta.us/wp-content/uploads/202
 4/09/Georgia-BMX-Hall-of-Fame.jpg
CATEGORIES:Sports &amp; Fitness Events
LOCATION:Camps Kitchen Bar\, 255 Village Parkway \, NE Marietta\, Georgia\,
  30067\, GA\, United States
X-APPLE-STRUCTURED-LOCATION;VALUE=URI;X-ADDRESS=255 Village Parkway \, NE M
 arietta\, Georgia\, 30067\, GA\, United States;X-APPLE-RADIUS=100;X-TITLE=
 Camps Kitchen Bar:geo:0,0
END:VEVENT
BEGIN:VTIMEZONE
TZID:America/New_York
X-LIC-LOCATION:America/New_York
BEGIN:DAYLIGHT
DTSTART:20240310T030000
TZOFFSETFROM:-0500
TZOFFSETTO:-0400
TZNAME:EDT
END:DAYLIGHT
END:VTIMEZONE
END:VCALENDAR