BEGIN:VCALENDAR
VERSION:2.0
PRODID:-//wp-events-plugin.com//7.2.3.1//EN
TZID:America/New_York
X-WR-TIMEZONE:America/New_York
BEGIN:VEVENT
UID:241@breatheatlanta.us
DTSTART;TZID=America/New_York:20240427T100000
DTEND;TZID=America/New_York:20240427T150000
DTSTAMP:20240409T162032Z
URL:https://breatheatlanta.us/events/georgia-mental-health/
SUMMARY:Georgia Mental Health Symposium
DESCRIPTION:\nFree Mental Health Symposium: Empowering Students\, Families 
 &amp\; Communities (Georgia)\nCalling all passionate advocates for mental 
 health! Join the inaugural TMHAA Mental Health Symposium\, powered by Nort
 hside Hospital\, on Saturday\, April 27th (10:00 am - 3:00 pm) at The Hudg
 ens Center (Gas South Arena).\nConnect\, Learn\, and Grow:\nThis FREE even
 t provides a platform for:\n\n\n 	Students: Gain valuable insights and res
 ources to support your well-being.\n 	Parents: Learn strategies for foster
 ing strong family bonds and addressing mental health concerns in your chil
 dren.\n 	Community Leaders: Connect with others and discover resources to 
 strengthen the community's mental health landscape.\n\nA Day of Inspiratio
 n and Action:\n\n\n 	Inspiring Speakers: Be captivated by talks from leadi
 ng voices in the mental health field.\n 	Interactive Workshops: Engage in 
 practical sessions equipped with actionable tools and strategies.\n 	Valua
 ble Resources: Connect with organizations and discover resources to suppor
 t your well-being.\n 	Free Lunch: Enjoy a nourishing lunch provided for al
 l attendees.\n\nDon't Miss Out!\n\n\n 	Register Now: Reserve your spot for
  this enriching event – registration is required!\n 	Make a Difference: 
 Gain knowledge and tools to improve your own life and the lives of those a
 round you.\n\nVendor Village &amp\; Exciting Giveaways!\n\n\n 	Connect wit
 h Sponsors: Meet representatives from our amazing sponsors in the Vendor V
 illage.\n 	Free Merchandise: Pick up some free swag and resources from our
  sponsors.\n 	Grand Prize Giveaway: Enter to win a beautiful Specialized b
 rand bike and VIP package to see the Georgia Bulldogs play live!\n\nThank 
 You to Our Supporters!\nA heartfelt thank you to Northside Hospital\, Nort
 heast Georgia Health System\, and all our other sponsors for their generou
 s support.\nThe Power of Connection:\nThis symposium is more than just an 
 event\; it's a catalyst for positive change. Let's come together and empow
 er one another to create a future where mental health is prioritized and w
 ell-being thrives.\nSee you there!\n#TMHAA #MentalHealthSymposium #Empower
 ment #Community\n\n\n\nBOOK SPOTS\n
ATTACH;FMTTYPE=image/jpeg:https://breatheatlanta.us/wp-content/uploads/202
 4/04/https___cdn.evbuc_.com_images_713209459_2013224306893_1_original.jpeg
CATEGORIES:Wellness Events
LOCATION:The Hudgens Center for Art & Learning at Gas South Arena\, 6400 Su
 garloaf Parkway\, Duluth\, Georgia\, 30097\, United States
X-APPLE-STRUCTURED-LOCATION;VALUE=URI;X-ADDRESS=6400 Sugarloaf Parkway\, Du
 luth\, Georgia\, 30097\, United States;X-APPLE-RADIUS=100;X-TITLE=The Hudg
 ens Center for Art & Learning at Gas South Arena:geo:0,0
END:VEVENT
BEGIN:VTIMEZONE
TZID:America/New_York
X-LIC-LOCATION:America/New_York
BEGIN:DAYLIGHT
DTSTART:20240310T030000
TZOFFSETFROM:-0500
TZOFFSETTO:-0400
TZNAME:EDT
END:DAYLIGHT
END:VTIMEZONE
END:VCALENDAR