BEGIN:VCALENDAR
VERSION:2.0
PRODID:-//wp-events-plugin.com//7.2.3.1//EN
TZID:America/New_York
X-WR-TIMEZONE:America/New_York
BEGIN:VEVENT
UID:345@breatheatlanta.us
DTSTART;TZID=America/New_York:20240726T100000
DTEND;TZID=America/New_York:20240727T120000
DTSTAMP:20240627T082225Z
URL:https://breatheatlanta.us/events/georgia-mountain-moonshine-cruiz-in/
SUMMARY:Georgia Mountain Moonshine Cruiz-In
DESCRIPTION:Step into the vibrant world of classic cars and Southern histor
 y at the Georgia Mountain Moonshine Cruiz-In! This exciting event invites 
 you to immerse yourself in a weekend filled with nostalgia\, entertainment
 \, and the allure of vintage automobiles set against the picturesque backd
 rop of the Georgia mountains.\n\nEvent Overview:\n\nVenue: Hosted at the D
 alton Convention Center\, the Georgia Mountain Moonshine Cruiz-In promises
  a dynamic experience for car enthusiasts and history aficionados alike.\n
 \nClassic Cars Galore: Marvel at a stunning array of classic cars\, meticu
 lously restored to their original splendor. From iconic muscle cars to sle
 ek hot rods\, each vehicle tells a story of craftsmanship and passion.\n\n
 Live Music &amp\; Delicious Food: Enjoy live music performances that captu
 re the essence of Southern culture\, creating a festive atmosphere through
 out the event. Indulge in mouth-watering Southern cuisine and local delica
 cies that will satisfy your cravings.\n\nCelebrating Moonshine: Delve into
  the rich history of moonshine\, an integral part of Georgia's heritage. L
 earn about the craft and artistry behind moonshine production\, and discov
 er its cultural significance through engaging exhibits and storytelling.\n
 \nCommunity and Hospitality: Experience genuine Southern hospitality as yo
 u connect with fellow enthusiasts and local community members. Share stori
 es\, make new friends\, and celebrate the spirit of camaraderie that defin
 es the Georgia Mountain Moonshine Cruiz-In.\n\nWhy Attend?\n\nThe Georgia 
 Mountain Moonshine Cruiz-In is not just an event—it's a celebration of a
 utomotive history and Southern traditions. Whether you're a car enthusiast
 \, a history buff\, or simply looking for a weekend of fun and exploration
 \, this event offers something for everyone. It's a chance to witness clas
 sic cars in their element\, enjoy live entertainment\, savor delicious foo
 d\, and gain insights into a storied aspect of Southern culture.\n\nSave t
 he Date:\n\nDon't miss out on this unforgettable weekend of cars\, moonshi
 ne\, and Southern charm! Mark your calendars\, gather your friends and fam
 ily\, and join us at the Georgia Mountain Moonshine Cruiz-In. It's your ti
 cket to a memorable journey through time and tradition in the heart of the
  Georgia mountains. We look forward to seeing you there!\n\nGET TICKETS\n
ATTACH;FMTTYPE=image/jpeg:https://breatheatlanta.us/wp-content/uploads/202
 4/06/Georgia-Mountain-Moonshine-Cruiz-In.jpg
CATEGORIES:Sports &amp; Fitness Events,Things To Do
LOCATION:Dalton Convention Center\, 2211 Tony Ingle Parkway Dalton\, Atlant
 a\, Georgia\, 30720\, GA \, United States
X-APPLE-STRUCTURED-LOCATION;VALUE=URI;X-ADDRESS=2211 Tony Ingle Parkway Dal
 ton\, Atlanta\, Georgia\, 30720\, GA \, United States;X-APPLE-RADIUS=100;X
 -TITLE=Dalton Convention Center:geo:0,0
END:VEVENT
BEGIN:VTIMEZONE
TZID:America/New_York
X-LIC-LOCATION:America/New_York
BEGIN:DAYLIGHT
DTSTART:20240310T030000
TZOFFSETFROM:-0500
TZOFFSETTO:-0400
TZNAME:EDT
END:DAYLIGHT
END:VTIMEZONE
END:VCALENDAR