BEGIN:VCALENDAR
VERSION:2.0
PRODID:-//wp-events-plugin.com//7.2.3.1//EN
TZID:America/New_York
X-WR-TIMEZONE:America/New_York
BEGIN:VEVENT
UID:382@breatheatlanta.us
DTSTART;TZID=America/New_York:20240817T093000
DTEND;TZID=America/New_York:20240818T163000
DTSTAMP:20240730T182838Z
URL:https://breatheatlanta.us/events/get-certified-as-a-laughter-yoga-lead
 er/
SUMMARY:Get Certified as a Laughter Yoga Leader!
DESCRIPTION:Are you ready to elevate your Laughter Yoga practice and share 
 the gift of joy with others? Join us for an enriching experience at the Ce
 rtified Laughter Yoga Leader Training happening on August 17-18\, 2024\, i
 n vibrant Atlanta\, Georgia!\n\nWhy Attend:\n\n 	Immerse Yourself in Atlan
 ta: Enjoy your laughter journey in the historic and trendy Inman Park neig
 hborhood. Take advantage of free time to explore the Atlanta Beltline East
 side Trail\, and savor the local dining\, shopping\, and relaxation opport
 unities.\n\nTraining Highlights:\n\n 	Transform Lives: Empower yourself an
 d others by spreading the benefits of laughter and well-being.\n 	Enhance 
 Your Skills: Receive comprehensive training to confidently lead your own L
 aughter Yoga sessions.\n 	Join a Global Community: Connect with like-minde
 d individuals and become part of an international network of Laughter Yoga
  leaders.\n\nWhat You'll Learn:\n\n 	History and Philosophy: Gain insight 
 into the origins and principles of Laughter Yoga.\n 	Techniques and Exerci
 ses: Master a range of laughter exercises and breathing techniques.\n 	Ses
 sion Planning and Practice: Learn to design and lead sessions for diverse 
 groups\, including corporate teams\, seniors\, and children.\n 	Practical 
 Experience: Participate in hands-on practice sessions to hone your skills.
 \n 	The Business Side: Understand how to market your sessions and set appr
 opriate fees.\n\nThis training offers a dynamic blend of lectures\, practi
 cal exercises\, discussions\, and\, of course\, plenty of laughter. By the
  end\, you will be well-prepared to deepen your practice and help others d
 iscover the transformative power of intentional laughter.\n\nRegister Now 
 to secure your spot in this exciting in-person training and embark on a la
 ughter-filled journey that will enrich your life and those around you.\n\n
 GET TICKETS\n
ATTACH;FMTTYPE=image/jpeg:https://breatheatlanta.us/wp-content/uploads/202
 4/07/Get-Certified-as-a-Laughter-Yoga-Leader.jpg
CATEGORIES:Mindfulness Events,Things To Do,Wellness Events,Yoga Events
LOCATION:Trolley Barn\, 963 Edgewood Avenue Northeast Atlanta\, GA 30307 Un
 ited States\, GA\,  United States\,  30307\, GA\, United States
X-APPLE-STRUCTURED-LOCATION;VALUE=URI;X-ADDRESS=963 Edgewood Avenue Northea
 st Atlanta\, GA 30307 United States\, GA\,  United States\,  30307\, GA\, 
 United States;X-APPLE-RADIUS=100;X-TITLE=Trolley Barn:geo:0,0
END:VEVENT
BEGIN:VTIMEZONE
TZID:America/New_York
X-LIC-LOCATION:America/New_York
BEGIN:DAYLIGHT
DTSTART:20240310T030000
TZOFFSETFROM:-0500
TZOFFSETTO:-0400
TZNAME:EDT
END:DAYLIGHT
END:VTIMEZONE
END:VCALENDAR