BEGIN:VCALENDAR
VERSION:2.0
PRODID:-//wp-events-plugin.com//7.2.3.1//EN
TZID:America/New_York
X-WR-TIMEZONE:America/New_York
BEGIN:VEVENT
UID:180@breatheatlanta.us
DTSTART;TZID=America/New_York:20240413T100000
DTEND;TZID=America/New_York:20240413T180000
DTSTAMP:20240909T093613Z
URL:https://breatheatlanta.us/events/get-fit-family-health-wellness-stay-f
 it-thru-fitness-fun-day/
SUMMARY:Get Fit Family Health & Wellness/Stay Fit Thru Fitness Fun Day...
DESCRIPTION:\n\n\n\n\n\n\n\n\n\n\n\n\nGet ready for a mind-blowing day fill
 ed with health\, fun\, and excitement at our NLP Health Screening Spectacu
 lar!\n\nActivities:\n\nHealth Screening: Take control of your well-being w
 ith our cutting-edge health screenings. Let our NLP-powered insights guide
  you towards optimal health.\n\nKids Bounce House: Watch your little one's
  bounce\, leap\, and bound with joy in our NLP-enhanced bounce house. Safe
 ty and fun guaranteed!\n\nPrizes Galore: Harness the power of NLP luck and
  win amazing prizes throughout the day! Our algorithms ensure every winner
  walks away with a smile.\n\nLive DJ: Immerse yourself in the mesmerizing 
 beats curated by our NLP-trained DJ. Let the music uplift your spirits and
  energize your soul!\n\nVendors: Explore a marketplace teeming with NLP-ap
 proved products and services. From holistic remedies to innovative gadgets
 \, our vendors have it all!\n\nFood Fiesta: Nourish your body with delecta
 ble delights handpicked by our NLP-powered food experts. Every bite is a s
 ymphony of flavor and nutrition!\n\nZumba: Dance your way to fitness enlig
 htenment with our NLP-infused Zumba sessions. Let the rhythm synchronize y
 our body\, mind\, and soul!\n\nKids Audition for WNBA: Unleash your child'
 s potential on the grand stage of sports! Our NLP-coached judges are ready
  to spot the next basketball superstar!\n\nChristian Hip Hop Fit: Elevate 
 your workout experience with our NLP-engineered Christian Hip Hop Fit sess
 ion. Sweat\, groove\, and praise your way to divine fitness!\n\nEvent Info
 rmation:\n\nEvent Name: Get Fit Family Health &amp\; Wellness/Stay Fit Thr
 u Fitness Fun Day\n\nDate and Time: Saturday\, April 13\, 10:00 AM - 6:00 
 PM EDT.\n\nLocation: Smith Barnes Elementary School\, 147 Tye Street\, Sto
 ckbridge\, GA 30281\, United States\n\nTicket Price: Free\n\n\n\n\n\n\nGET
  TICKETS\n\n\n\n\n\n\n\nAbout this Event: Join us for a full day of health
 \, fitness\, and wellness activities at the Get Fit Family Health &amp\; W
 ellness/Stay Fit Thru Fitness Fun Day event! Hosted by Stay Fit Thru the A
 rts\, Inc.\, this event is dedicated to promoting health\, fitness\, dance
 \, and wellness within the community.\n\nThroughout the day\, attendees ca
 n participate in health screenings\, enjoy a kids bounce house\, groove to
  live DJ music\, explore various vendors\, savor delicious food\, and atte
 nd informative lectures and demonstrations focusing on improving health\, 
 fitness\, and nutrition.\n\nAdditionally\, the event features Stay Fit Thr
 u Fitness Fun Day\, showcasing dance\, fitness\, and yoga sessions led by 
 educators from around the world and the Atlanta Metropolitan Area. Don't m
 iss the opportunity to be part of the excitement\, including Zumba session
 s\, Christian Hip Hop fitness\, and a special chance for kids to audition 
 and perform at a WNBA Basketball game.\n\nEvent Schedule:\n\n10:00 AM - 2:
 00 PM: Get Fit Family Health and Wellness\n\nHealth Screening\n\nKids Boun
 ce House\n\nDJ\n\nVendors\n\nFood\n\nLectures\n\nDemonstrations\n\n2:00 PM
  - 6:00 PM: Stay Fit Thru Fitness Event\n\nVendors\n\nLectures\n\nFood\n\n
 Performances\n\nZumba (3:30 PM)\n\nChristian Hip Hop Fitness (4:15 PM)\n\n
 Kids WNBA Audition (5:30 PM)\n\nEssentials to Bring: Comfortable clothing\
 , water bottle\, and enthusiasm for fitness and fun!\n\nParking Options: P
 arking will be available at the Smith Barnes Elementary School location. P
 lease follow event signage for designated parking areas.\n\n\n\n\n\n\n\n\n
 \n\n\n\n\n
ATTACH;FMTTYPE=image/jpeg:https://breatheatlanta.us/wp-content/uploads/202
 4/03/https___cdn.evbuc_.com_images_727774189_131912004273_1_original.jpeg
CATEGORIES:Sports &amp; Fitness Events,Wellness Events,Yoga Events
LOCATION:Smith Barnes Elementary School\, 147 Tye Street Stockbridge\, GA 3
 0281 United States\, GA  \, United States\, 30281\, GA\, United States
X-APPLE-STRUCTURED-LOCATION;VALUE=URI;X-ADDRESS=147 Tye Street Stockbridge\
 , GA 30281 United States\, GA  \, United States\, 30281\, GA\, United Stat
 es;X-APPLE-RADIUS=100;X-TITLE=Smith Barnes Elementary School:geo:0,0
END:VEVENT
BEGIN:VTIMEZONE
TZID:America/New_York
X-LIC-LOCATION:America/New_York
BEGIN:DAYLIGHT
DTSTART:20240310T030000
TZOFFSETFROM:-0500
TZOFFSETTO:-0400
TZNAME:EDT
END:DAYLIGHT
END:VTIMEZONE
END:VCALENDAR