BEGIN:VCALENDAR
VERSION:2.0
PRODID:-//wp-events-plugin.com//7.2.3.1//EN
TZID:America/New_York
X-WR-TIMEZONE:America/New_York
BEGIN:VEVENT
UID:466@breatheatlanta.us
DTSTART;TZID=America/New_York:20240921T090000
DTEND;TZID=America/New_York:20240922T120000
DTSTAMP:20240915T090853Z
URL:https://breatheatlanta.us/events/glam-nations-day-getaway-pj-party/
SUMMARY:GLAM Nation's Day Getaway & PJ Party
DESCRIPTION:Step into a day of joy and rejuvenation at GLAM Nation's Day Ge
 taway &amp\; PJ Party\, designed exclusively for women aged 45 and up. Emb
 race your inner child and revel in a day of sisterhood\, self-care\, and u
 nforgettable experiences.\n\nFor just $259\, you can indulge in a complete
  retreat tailored to refresh and revitalize. This investment in yourself o
 ffers:\n\n 	A Sacred Space for Connection: Engage in meaningful interactio
 ns with fellow participants in a nurturing environment.\n 	Meet &amp\; Gre
 et Ice Breaker: Begin your retreat with an enjoyable icebreaker activity t
 o help you connect with new friends.\n 	Hot Breakfast: Start your day with
  a delicious and hearty breakfast.\n 	Morning Meditative Walk: Enjoy a ser
 ene walk around the lake to center yourself and embrace the tranquility of
  nature.\n 	Signature GLAM Nation Gift: Receive a special gift\, including
  cozy pajamas for the evening festivities.\n 	Rooftop Shades of Pink Lunch
 eon: Savor a delightful lunch on the rooftop\, surrounded by elegant shade
 s of pink.\n 	Delicious Dinner: Enjoy a delectable dinner crafted to tanta
 lize your taste buds.\n 	GLAM Jam (Sister Circle): Participate in a heartw
 arming sister circle session\, celebrating the bonds of friendship and sup
 port.\n 	Late Night Pool Dip (Optional): Relax with an optional late-night
  swim in the pool.\n 	Customary Farewell Champagne Toast: Conclude your ge
 taway with a celebratory toast to mark the end of a memorable experience.\
 n 	More Surprises and Activities: Look forward to additional surprises and
  activities designed to enhance your retreat experience.\n\nEscape from yo
 ur everyday roles and responsibilities\, including titles\, spouses\, and 
 children\, and treat yourself to this unique blend of relaxation\, fun\, a
 nd connection. Secure your spot today and indulge in a well-deserved retre
 at that promises joy\, rejuvenation\, and cherished memories.\n\nGET TICKE
 TS\n
ATTACH;FMTTYPE=image/jpeg:https://breatheatlanta.us/wp-content/uploads/202
 4/09/GLAM-Nations-Day-Getaway-PJ-Party.jpg
CATEGORIES:Things To Do,Wellness Events
LOCATION:3833 Princeton Lakes Ct SW\, 3833 Princeton Lakes Court Southwest 
 Atlanta\, Atlanta\, Georgia\, 30331\, GA\, United States
X-APPLE-STRUCTURED-LOCATION;VALUE=URI;X-ADDRESS=3833 Princeton Lakes Court 
 Southwest Atlanta\, Atlanta\, Georgia\, 30331\, GA\, United States;X-APPLE
 -RADIUS=100;X-TITLE=3833 Princeton Lakes Ct SW:geo:0,0
END:VEVENT
BEGIN:VTIMEZONE
TZID:America/New_York
X-LIC-LOCATION:America/New_York
BEGIN:DAYLIGHT
DTSTART:20240310T030000
TZOFFSETFROM:-0500
TZOFFSETTO:-0400
TZNAME:EDT
END:DAYLIGHT
END:VTIMEZONE
END:VCALENDAR