BEGIN:VCALENDAR
VERSION:2.0
PRODID:-//wp-events-plugin.com//7.2.3.1//EN
TZID:America/New_York
X-WR-TIMEZONE:America/New_York
BEGIN:VEVENT
UID:588@breatheatlanta.us
DTSTART;TZID=America/New_York:20241025T200000
DTEND;TZID=America/New_York:20241025T213000
DTSTAMP:20241009T164227Z
URL:https://breatheatlanta.us/events/glow-and-flow-a-night-of-movement-and
 -music/
SUMMARY:Glow and Flow: A Night of Movement and Music
DESCRIPTION:Join us for a unique and exhilarating evening of Glow and Flow.
  This immersive yoga experience combines the power of movement with the en
 ergy of music. Whether you're a seasoned yogi or new to the practice\, thi
 s event is designed to inspire and invigorate.\nAs the lights dim and the 
 black lights illuminate\, prepare to be transported into a world of vibran
 t colors and rhythmic sounds. Let go of your inhibitions and embrace the f
 reedom of movement as you flow through a series of postures guided by the 
 pulsating beats.\nDon your neon\, white\, or sparkling attire and immerse 
 yourself in the transformative energy of the event. As you move\, breathe\
 , and connect with your body\, you'll discover a newfound sense of balance
  and harmony.\nDon't miss this opportunity to experience the magic of Glow
  and Flow. Join us for a night of unforgettable fun\, connection\, and sel
 f-discovery.\n\n\nGET TICKETS\n
ATTACH;FMTTYPE=image/jpeg:https://breatheatlanta.us/wp-content/uploads/202
 4/10/Glow-Flow.jpg
CATEGORIES:Yoga Events
LOCATION:The Union Fit Hub\,   828 Ralph McGill Boulevard \, Northeast #w4 
 Atlanta\, \, United States\, 30306 \, GA \, United States
X-APPLE-STRUCTURED-LOCATION;VALUE=URI;X-ADDRESS=  828 Ralph McGill Boulevar
 d \, Northeast #w4 Atlanta\, \, United States\, 30306 \, GA \, United Stat
 es;X-APPLE-RADIUS=100;X-TITLE=The Union Fit Hub:geo:0,0
END:VEVENT
BEGIN:VTIMEZONE
TZID:America/New_York
X-LIC-LOCATION:America/New_York
BEGIN:DAYLIGHT
DTSTART:20240310T030000
TZOFFSETFROM:-0500
TZOFFSETTO:-0400
TZNAME:EDT
END:DAYLIGHT
END:VTIMEZONE
END:VCALENDAR