BEGIN:VCALENDAR
VERSION:2.0
PRODID:-//wp-events-plugin.com//7.2.3.1//EN
TZID:America/New_York
X-WR-TIMEZONE:America/New_York
BEGIN:VEVENT
UID:115@breatheatlanta.us
DTSTART;TZID=America/New_York:20240306T100000
DTEND;TZID=America/New_York:20240306T110000
DTSTAMP:20240323T090400Z
URL:https://breatheatlanta.us/events/goats-yoga-nature-pure-joy/
SUMMARY:Goats + Yoga + Nature = Pure Joy!
DESCRIPTION:\n\n\n\n\n\n\n\n\n\n\n\n\nExperience the tranquility of Goat Yo
 ga at Serenbe! Delight in a morning amidst nature\, practicing yoga alongs
 ide affectionate Nigerian Dwarf Goats. As the session concludes\, enjoy a 
 post-yoga Mimosa\, adding a touch of indulgence to your serene experience.
 \n\nEvent Information:\n\nDate and Time: Saturday\, April 6\, 10:00 - 11:0
 0 am EDT.\n\nLocation: The Inn at Serenbe (Animal Village Located Behind I
 nn)\, 10950 Hutchesons Ferry Road Palmetto\, GA 30268\, United States\n\nT
 icket Price:\n\nGeneral Admission: $40.00\n\nFees: $4.52\n\nSales Tax: $3.
 12\n\nTotal: $47.64\n\nGET TICKETS\n\nLimited Availability: Few tickets le
 ft.\n\nAbout this Event: Indulge in the unique experience of Goat Yoga ami
 dst the serene surroundings of Serenbe. A session of yoga practiced alongs
 ide adorable Nigerian Dwarf Goats. Each class promises a delightful intera
 ction with our goat companions\, renowned for their uplifting presence. Le
 ave feeling lighter\, more tranquil\, and filled with joy. Please note age
  and weight restrictions apply.\n\nWorkout Session Detail:\n\nReservation 
 Required\n\nNo loose-fitting clothes. Wear comfortable attire.\n\nAvoid ta
 nks or open-back shirts. Bring a layer to cover your back.\n\nMinimum age 
 requirement: 15 years old\n\nMinimum weight requirement: 95+ pounds\n\nChi
 ldren under 18 must be accompanied by an adult to sign a waiver.\n\nLeave 
 personal belongings at home or locked in your car. Phones are welcome for 
 capturing memories.\n\nMats are provided.\n\nEssential for Bring:\n\nComfo
 rtable clothing\n\nLayer to cover your back.\n\nPhone for capturing memori
 es.\n\nParking Option:\n\nPark in the grass/dirt parking area across from 
 the Inn at Serenbe\, on the other side of the dirt road from Hutcheson's F
 erry.\n\nFollow black signs on the fencing to the Animal Village located b
 ehind the Inn.\n\nOnce in the Animal Village\, follow signs to the end of 
 the Animal Village at the top of a slight incline. Look for the parked gol
 f cart.\n\nNote: Goat Yoga is not held at the Serenbe Yoga + Bodyworks stu
 dio.\n\nFor further inquiries or to book a private Goat Yoga session\, ple
 ase email us at info@serenbeyoga.com. Visit www.serenbeyoga.com for more i
 nformation on our offerings.\n\n\n\n\n\n\n\n\n\n\n\n\n\n\n\n\n\n
ATTACH;FMTTYPE=image/jpeg:https://breatheatlanta.us/wp-content/uploads/202
 4/03/https___cdn.evbuc_.com_images_426415699_2279016218_1_original.jpeg
CATEGORIES:Wellness Events,Yoga Events
LOCATION:The Inn at Serenbe (Animal Village Located Behind Inn)\, 10950 Hut
 chesons Ferry Road Palmetto\, GA 30268 United States\,  GA\,  United State
 s\,  30268\, GA\, United States
X-APPLE-STRUCTURED-LOCATION;VALUE=URI;X-ADDRESS=10950 Hutchesons Ferry Road
  Palmetto\, GA 30268 United States\,  GA\,  United States\,  30268\, GA\, 
 United States;X-APPLE-RADIUS=100;X-TITLE=The Inn at Serenbe (Animal Villag
 e Located Behind Inn):geo:0,0
END:VEVENT
BEGIN:VTIMEZONE
TZID:America/New_York
X-LIC-LOCATION:America/New_York
BEGIN:STANDARD
DTSTART:20231105T010000
TZOFFSETFROM:-0400
TZOFFSETTO:-0500
TZNAME:EST
END:STANDARD
END:VTIMEZONE
END:VCALENDAR