BEGIN:VCALENDAR
VERSION:2.0
PRODID:-//wp-events-plugin.com//7.2.3.1//EN
TZID:America/New_York
X-WR-TIMEZONE:America/New_York
BEGIN:VEVENT
UID:447@breatheatlanta.us
DTSTART;TZID=America/New_York:20240906T073000
DTEND;TZID=America/New_York:20240906T090000
DTSTAMP:20240904T150721Z
URL:https://breatheatlanta.us/events/goddess-yoga-with-kelly/
SUMMARY:Goddess Yoga with Kelly
DESCRIPTION:Experience the empowering fusion of yoga and dance in Goddess Y
 oga\, a class specially designed to celebrate and embrace the feminine bod
 y. Inspired by the fluid movements of hula and belly dance\, this practice
  is a beautiful blend of yoga and graceful dance created by a woman\, for 
 women.\n\nGoddess Yoga is more than just a workout\; it’s a journey to r
 econnect with your body and awaken the divine feminine energy within. Thro
 ugh fluid movements and intentional breathwork\, each class offers a nurtu
 ring space to explore and express your inner goddess. The practice is desi
 gned to inspire self-love\, acceptance\, and a deeper connection to your f
 eminine essence.\n\nEvery session focuses on different aspects of the divi
 ne feminine\, such as strength\, grace\, compassion\, and creativity. Whet
 her you're a seasoned yogi or new to the practice\, Kelly’s guidance ens
 ures that everyone feels supported and empowered. The class is an inclusiv
 e sanctuary where women of all backgrounds and experience levels are welco
 me to come together\, fostering a sense of community\, trust\, and unity.\
 n\nRejuvenate your spirit\, embrace your femininity\, and let the transfor
 mative power of Goddess Yoga lead you on a path of self-discovery. Join us
  for a heartwarming experience that will leave you feeling empowered and c
 onnected to the goddess within.\n\n\nGET TICKETS\n\n
ATTACH;FMTTYPE=image/jpeg:https://breatheatlanta.us/wp-content/uploads/202
 4/09/Goddess-Yoga-with-Kelly-1.jpg
CATEGORIES:Mindfulness Events,Things To Do,Wellness Events,Yoga Events
LOCATION:Aum Studio for Wellness\, 11550 Webb Bridge Way #Suite B2 Alpharet
 ta\, Atlanta\, Georgia\, 30005\, GA\, United States
X-APPLE-STRUCTURED-LOCATION;VALUE=URI;X-ADDRESS=11550 Webb Bridge Way #Suit
 e B2 Alpharetta\, Atlanta\, Georgia\, 30005\, GA\, United States;X-APPLE-R
 ADIUS=100;X-TITLE=Aum Studio for Wellness:geo:0,0
END:VEVENT
BEGIN:VTIMEZONE
TZID:America/New_York
X-LIC-LOCATION:America/New_York
BEGIN:DAYLIGHT
DTSTART:20240310T030000
TZOFFSETFROM:-0500
TZOFFSETTO:-0400
TZNAME:EDT
END:DAYLIGHT
END:VTIMEZONE
END:VCALENDAR