BEGIN:VCALENDAR
VERSION:2.0
PRODID:-//wp-events-plugin.com//7.2.3.1//EN
TZID:America/New_York
X-WR-TIMEZONE:America/New_York
BEGIN:VEVENT
UID:54@breatheatlanta.us
DTSTART;TZID=America/New_York:20240406T190000
DTEND;TZID=America/New_York:20240406T220000
DTSTAMP:20240320T054937Z
URL:https://breatheatlanta.us/events/good-night-sleep-wellness-workshop/
SUMMARY:Good Night: Sleep Wellness Workshop
DESCRIPTION:\n\n\n\n\n\n\n\n\n\n\n\n\n🌟 Welcome to the Sleep Wellness Wo
 rkshop\, a transformative event where the power of Natural Language Proces
 sing (NLP) intersects with the realm of rejuvenating rest! 🌙\n\nJoin us
  on a journey into the depths of sleep science and holistic well-being as 
 we explore the intricacies of sleep patterns\, habits\, and their profound
  impact on our daily lives. Led by renowned sleep expert D. Brunson\, this
  workshop offers a unique opportunity to unlock the secrets of a truly res
 tful night's sleep.\n\nThrough the lens of NLP\, we'll delve into personal
 ized strategies tailored to your individual sleep needs\, guiding you towa
 rd optimized sleep quality and enhanced vitality. From understanding the i
 mportance of morning and sleep wellness habits to exploring innovative too
 ls like soothing teas and calming crystals\, we'll equip you with the know
 ledge and resources to transform your sleep experience.\n\nPrepare to enga
 ge in enlightening discussions\, share personal insights\, and discover pr
 actical solutions for achieving a deeper\, more rejuvenating sleep. Whethe
 r you're struggling with insomnia\, seeking to improve sleep hygiene\, or 
 simply striving for a more energized lifestyle\, this workshop is your gat
 eway to a world of tranquil slumber and boundless well-being.\n\nEmbrace t
 he power of NLP and embark on a journey to awaken your best self through t
 he art and science of sleep. Welcome to the Sleep Wellness Workshop – wh
 ere dreams become a reality\, and every night holds the promise of a brigh
 ter tomorrow. 💫💤\n\nEvent Information:\n\nEvent Name: Good Night: Sl
 eep Wellness Workshop\n\nHost: D. Brunson\n\nDate and Time:\n\nDate: Satur
 day\, April 6\, 2024\n\nTime: 7:00 pm - 10:00 pm EDT\n\nLocation:\n\nVenue
 : 3372 Canton Rd suite 116\n\nAddress: 3372 Canton Road\, Marietta\, GA 30
 066\, United States\n\nTicket Price:\n\nTicket Price: Free\n\n&nbsp\;\n\nG
 ET TICKETS\n\nAbout this Event:\n\nWelcome to the Sleep Wellness Workshop!
  Join us as we embark on a journey to explore the crucial aspects of sleep
  and its profound impact on our overall well-being. Throughout this three-
 hour session\, we will delve into the difference between morning wellness 
 habits and sleep wellness habits\, uncovering how our daily routines can s
 ignificantly influence the quality of our rest.\n\nGuided by research find
 ings on sleep levels\, we will gain a deeper understanding of the vital im
 portance of a good night's sleep. Participants will have the opportunity t
 o share personal experiences\, offering valuable insights into individual 
 sleep patterns and challenges.\n\nDiscover a variety of tools\, including 
 soothing teas\, calming stones\, and crystals\, designed to enhance sleep 
 quality. Engage in open dialogues and ask questions to expand your knowled
 ge of these tools and learn how to seamlessly incorporate them into your n
 ightly routine.\n\nExplore a selection of products and tools curated to pr
 omote better sleep hygiene\, equipping you with practical solutions for ac
 hieving a restful night's sleep. Join us in this interactive session as we
  prioritize self-care through the adoption of effective sleep practices.\n
 \nWorkout Session Detail:\n\nDuration: 3 hours\n\nEssentials to Bring:\n\n
 Open mind and willingness to learn\n\nNote-taking materials\n\nComfortable
  attire for relaxation\n\nParking Options:\n\nPlease refer to the venue's 
 parking facilities for more information.\n\n\n\n\n\n\n\n\n\n\n\n\n
ATTACH;FMTTYPE=image/jpeg:https://breatheatlanta.us/wp-content/uploads/202
 4/03/https___cdn.evbuc_.com_images_710527969_80385512075_1_original.jpeg
CATEGORIES:Wellness Events
LOCATION:3372 Canton Rd suite 116\, 3372 Canton Road Marietta\, GA 30066 Un
 ited States\, GA\, UNITED STATES\, 30066 \, GA\, United States
X-APPLE-STRUCTURED-LOCATION;VALUE=URI;X-ADDRESS=3372 Canton Road Marietta\,
  GA 30066 United States\, GA\, UNITED STATES\, 30066 \, GA\, United States
 ;X-APPLE-RADIUS=100;X-TITLE=3372 Canton Rd suite 116:geo:0,0
END:VEVENT
BEGIN:VTIMEZONE
TZID:America/New_York
X-LIC-LOCATION:America/New_York
BEGIN:DAYLIGHT
DTSTART:20240310T030000
TZOFFSETFROM:-0500
TZOFFSETTO:-0400
TZNAME:EDT
END:DAYLIGHT
END:VTIMEZONE
END:VCALENDAR