BEGIN:VCALENDAR
VERSION:2.0
PRODID:-//wp-events-plugin.com//7.2.3.1//EN
TZID:America/New_York
X-WR-TIMEZONE:America/New_York
BEGIN:VEVENT
UID:614@breatheatlanta.us
DTSTART;TZID=America/New_York:20241109T110000
DTEND;TZID=America/New_York:20241109T153000
DTSTAMP:20241013T123951Z
URL:https://breatheatlanta.us/events/good-spines-only-destination-adjustme
 nts/
SUMMARY:Good Spines Only Destination Adjustments
DESCRIPTION:"Good Spines Only: Destination Adjustments" offers a transforma
 tive Chiropractic experience like no other\, set against the stunning back
 drop of the Davidson-Arabia Mountain Nature Preserve. This unique event bl
 ends the healing benefits of expert Chiropractic care with the tranquility
  of nature\, creating an unforgettable wellness retreat in a serene outdoo
 r setting.\n\nGuests are invited to enjoy a day of rejuvenation and relaxa
 tion as skilled chiropractors bring their expertise to the great outdoors.
  The peaceful atmosphere of the preserve\, with its breathtaking landscape
 s and calming energy\, provides the ideal environment for attendees to rec
 onnect with their bodies and minds.\n\nDuring this event\, participants wi
 ll receive personalized Chiropractic adjustments tailored to their needs\,
  all while being surrounded by the natural beauty of the preserve. The com
 bination of professional care and the calming influence of nature promises
  to leave guests feeling balanced\, revitalized\, and at peace.\n\nWhether
  you're an experienced Chiropractic patient or exploring it for the first 
 time\, "Destination Adjustments" is designed to enhance your well-being th
 rough a holistic approach that nurtures both body and soul.\n\n📅 Mark y
 our calendar and join us at Davidson-Arabia Mountain Nature Preserve for a
 n unparalleled Chiropractic experience. Embrace the outdoors\, connect wit
 h nature\, and discover the revitalizing power of "Good Spines Only: Desti
 nation Adjustments."\n\nGET TICKETS\n
ATTACH;FMTTYPE=image/jpeg:https://breatheatlanta.us/wp-content/uploads/202
 4/10/Good-Spines-Only-Destination-Adjustments.jpeg
CATEGORIES:Wellness Events
LOCATION:Davidson-Arabia Mountain Nature Preserve\, 3787 Klondike Rd \, Sto
 necrest\, Georgia\, 30038\, GA\, United States
X-APPLE-STRUCTURED-LOCATION;VALUE=URI;X-ADDRESS=3787 Klondike Rd \, Stonecr
 est\, Georgia\, 30038\, GA\, United States;X-APPLE-RADIUS=100;X-TITLE=Davi
 dson-Arabia Mountain Nature Preserve:geo:0,0
END:VEVENT
BEGIN:VTIMEZONE
TZID:America/New_York
X-LIC-LOCATION:America/New_York
BEGIN:STANDARD
DTSTART:20241103T010000
TZOFFSETFROM:-0400
TZOFFSETTO:-0500
TZNAME:EST
END:STANDARD
END:VTIMEZONE
END:VCALENDAR