BEGIN:VCALENDAR
VERSION:2.0
PRODID:-//wp-events-plugin.com//7.2.3.1//EN
TZID:America/New_York
X-WR-TIMEZONE:America/New_York
BEGIN:VEVENT
UID:814@breatheatlanta.us
DTSTART;TZID=America/New_York:20250315T150000
DTEND;TZID=America/New_York:20250315T210000
DTSTAMP:20250223T062534Z
URL:https://breatheatlanta.us/events/grand-opening-of-rooftop-vybez-brunch
 -day-party/
SUMMARY:GRAND OPENING OF ROOFTOP VYBEZ BRUNCH + DAY PARTY
DESCRIPTION:GRAND OPENING: ROOFTOP VYBEZ BRUNCH + DAY PARTY\nThe Rooftop Vy
 bez event is set to kick off with an unforgettable Trap House Brunch + Day
  Party in the heart of Atlanta. It’s the ultimate blend of good vibes\, 
 great music\, and delicious food – the perfect way to spend an afternoon
  with friends\, music lovers\, and partygoers.\nEvent Highlights:\n\n\n 	L
 ive Music from Atlanta’s top DJs\, setting the perfect vibe for the day.
 \n 	Gourmet Food offerings that will satisfy your taste buds while you enj
 oy the atmosphere.\n 	2 Levels and 2 Bars ensuring a wide selection of dri
 nks and plenty of space to dance and socialize.\n 	Free Entry Until 5 PM w
 ith an RSVP – don’t miss out on this exclusive offer!\n\nRSVP NowText 
 (516) 424-7280 to reserve your section and secure your spot at this high-e
 nergy event.\nPowered By:\n\n\n 	@cafecircaatlanta\n 	@allroyalmarketing\n
 \nWhether you’re there to sip on refreshing drinks\, groove to the music
 \, or simply enjoy the sunshine\, this grand opening event promises to be 
 one for the books. Don’t miss your chance to be part of the action at Ro
 oftop Vybez!\n\n\nGET TICKETS\n
ATTACH;FMTTYPE=image/jpeg:https://breatheatlanta.us/wp-content/uploads/202
 5/02/GRAND-OPENING-OF-ROOFTOP-VYBEZ-BRUNCH-DAY-PARTY.avif
CATEGORIES:Wellness Events
LOCATION:Cafe Circa\, 464 Edgewood Avenue Southeast Atlanta\, Atlanta\, 303
 12\, GA\, United States
X-APPLE-STRUCTURED-LOCATION;VALUE=URI;X-ADDRESS=464 Edgewood Avenue Southea
 st Atlanta\, Atlanta\, 30312\, GA\, United States;X-APPLE-RADIUS=100;X-TIT
 LE=Cafe Circa:geo:0,0
END:VEVENT
BEGIN:VTIMEZONE
TZID:America/New_York
X-LIC-LOCATION:America/New_York
BEGIN:DAYLIGHT
DTSTART:20250309T030000
TZOFFSETFROM:-0500
TZOFFSETTO:-0400
TZNAME:EDT
END:DAYLIGHT
END:VTIMEZONE
END:VCALENDAR