BEGIN:VCALENDAR
VERSION:2.0
PRODID:-//wp-events-plugin.com//7.2.3.1//EN
TZID:America/New_York
X-WR-TIMEZONE:America/New_York
BEGIN:VEVENT
UID:359@breatheatlanta.us
DTSTART;TZID=America/New_York:20240808T180000
DTEND;TZID=America/New_York:20240808T220000
DTSTAMP:20240730T054714Z
URL:https://breatheatlanta.us/events/grand-tasting-alpharetta/
SUMMARY:Grand Tasting Alpharetta
DESCRIPTION:Mark your calendars for Grand Tasting Alpharetta\, a spectacula
 r tasting event celebrating the diverse and vibrant restaurant scene of Al
 pharetta. This exclusive event will be held on Thursday\, August 8th\, 202
 4\, at The Hotel at Avalon.\n\nAn Evening of Culinary Celebration\n\nFor o
 ne night only\, indulge in the dynamic energy of Alpharetta's culinary lan
 dscape. Attendees will have the opportunity to sip\, savor\, and celebrate
  the community's finest cuisine. This unique food festival promises an unf
 orgettable evening filled with delicious bites\, refreshing drinks\, and e
 ngaging entertainment.\n\nWhat to Expect\n\nPurchase your ticket today to 
 enjoy unlimited tastings from the area's best restaurants. Sample a variet
 y of wines\, craft beers\, and craft cocktails from more than a dozen vend
 ors. The evening will also feature live demos by talented chefs and barten
 ders\, vibrant music\, and an array of interactive experiences designed to
  delight all your senses.\n\nHighlights of the Event\n\n 	Unlimited Tastin
 gs: Enjoy a diverse selection of culinary creations from top local restaur
 ants.\n 	Beverage Tastings: Savor exquisite wines\, craft beers\, and inno
 vative cocktails.\n 	Live Demonstrations: Learn from the best as chefs and
  bartenders showcase their skills and share their secrets.\n 	Interactive 
 Experiences: Engage with fun and immersive activities throughout the eveni
 ng.\n 	Live Music: Dance and relax to the sounds of vibrant\, live music t
 hat sets the perfect ambiance.\n\nJoin Us for a Night of Gastronomic Delig
 ht\n\nWhether you are a foodie\, a wine enthusiast\, or simply looking for
  a fantastic night out\, Grand Tasting Alpharetta has something for everyo
 ne. This event is not just about food\; it's about celebrating the communi
 ty and the rich culinary culture that makes Alpharetta unique.\n\nDon't mi
 ss out on this extraordinary opportunity to taste\, learn\, and celebrate 
 with fellow culinary aficionados. Secure your ticket today and prepare for
  an evening of gastronomic delight at Grand Tasting Alpharetta!\n\nGET TIC
 KETS\n
ATTACH;FMTTYPE=image/jpeg:https://breatheatlanta.us/wp-content/uploads/202
 4/07/Screenshot-2024-07-30-113159.png
CATEGORIES:Arts &amp; Performances,Food &amp; Drink Events,Things To Do
LOCATION:The Hotel at Avalon\, 9000 Avalon Blvd\, Alpharetta\, Georgia\, 30
 009\, GA \, United States
X-APPLE-STRUCTURED-LOCATION;VALUE=URI;X-ADDRESS=9000 Avalon Blvd\, Alpharet
 ta\, Georgia\, 30009\, GA \, United States;X-APPLE-RADIUS=100;X-TITLE=The 
 Hotel at Avalon:geo:0,0
END:VEVENT
BEGIN:VTIMEZONE
TZID:America/New_York
X-LIC-LOCATION:America/New_York
BEGIN:DAYLIGHT
DTSTART:20240310T030000
TZOFFSETFROM:-0500
TZOFFSETTO:-0400
TZNAME:EDT
END:DAYLIGHT
END:VTIMEZONE
END:VCALENDAR