BEGIN:VCALENDAR
VERSION:2.0
PRODID:-//wp-events-plugin.com//7.2.3.1//EN
TZID:America/New_York
X-WR-TIMEZONE:America/New_York
BEGIN:VEVENT
UID:336@breatheatlanta.us
DTSTART;TZID=America/New_York:20240713T170000
DTEND;TZID=America/New_York:20240713T180000
DTSTAMP:20240627T062338Z
URL:https://breatheatlanta.us/events/gray-ga-sound-bath/
SUMMARY:Gray\, GA: Sound Bath
DESCRIPTION:Indulge in an hour-long vibrational sound experience that will 
 leave you feeling refreshed and rejuvenated at the Gray\, GA Sound Bath ev
 ent.\n\nWhat to Expect:\n\nDuring this immersive experience\, participants
  will lay on the floor and immerse themselves in the soothing sounds desig
 ned to reduce stress and promote relaxation. Feel free to bring anything t
 hat will enhance your comfort\, such as a mask\, yoga mat\, blanket\, pill
 ow\, water\, or socks.\n\nBenefits of Sound Bath:\n\nParticipants often re
 port experiencing:\n\n 	Reduced pain\n 	Improved sleep quality\n 	Emotiona
 l release\n 	Relief from stress and tension\n\nImportant Note:\n\nThis exp
 erience is not recommended for individuals who are in their first trimeste
 r of pregnancy\, currently have thrombosis\, hypotension\, or sensory sens
 itivity.\n\nWhy Attend:\n\n 	Stress Reduction: Experience the calming effe
 cts of sound vibrations and let go of tension and stress.\n 	Restful Sleep
 : Improve your sleep quality and experience deep relaxation.\n 	Emotional 
 Release: Release pent-up emotions and find emotional balance and clarity.\
 n\nJoin Us:\n\nDon't miss this opportunity to immerse yourself in a deeply
  relaxing sound bath experience. Reserve your spot now and prepare to unwi
 nd and rejuvenate in Gray\, GA!\n\nGET TICKETS\n
ATTACH;FMTTYPE=image/jpeg:https://breatheatlanta.us/wp-content/uploads/202
 4/06/Gray-GA-Sound-Bath.jpg
CATEGORIES:Mindfulness Events,Wellness Events
LOCATION:Middle Georgia Medical Massage\, 102 E Clinton St Suite 3 Gray\, A
 tlanta\, Georgia\, 31032\, GA \, United States
X-APPLE-STRUCTURED-LOCATION;VALUE=URI;X-ADDRESS=102 E Clinton St Suite 3 Gr
 ay\, Atlanta\, Georgia\, 31032\, GA \, United States;X-APPLE-RADIUS=100;X-
 TITLE=Middle Georgia Medical Massage:geo:0,0
END:VEVENT
BEGIN:VTIMEZONE
TZID:America/New_York
X-LIC-LOCATION:America/New_York
BEGIN:DAYLIGHT
DTSTART:20240310T030000
TZOFFSETFROM:-0500
TZOFFSETTO:-0400
TZNAME:EDT
END:DAYLIGHT
END:VTIMEZONE
END:VCALENDAR