BEGIN:VCALENDAR
VERSION:2.0
PRODID:-//wp-events-plugin.com//7.2.3.1//EN
TZID:America/New_York
X-WR-TIMEZONE:America/New_York
BEGIN:VEVENT
UID:168@breatheatlanta.us
DTSTART;TZID=America/New_York:20240502T140000
DTEND;TZID=America/New_York:20240502T153000
DTSTAMP:20240328T081643Z
URL:https://breatheatlanta.us/events/grc-group-chair-strength-balance-trai
 ning-nutrition-coaching-w-pmmfit/
SUMMARY:GRC GROUP CHAIR STRENGTH / BALANCE TRAINING & NUTRITION COACHING w/
  PMMFIT
DESCRIPTION:\n\n\n\n\n\n\n\n\n\n\n\n\nExperience the dynamic fusion of GROU
 P CHAIR STRENGTH TRAINING &amp\; NUTRITION COACHING\, curated to empower a
 nd elevate individuals towards their fitness and wellness goals.\n\nEvent 
 Information:\n\nEvent: GRC GROUP CHAIR STRENGTH / BALANCE TRAINING &amp\; 
 NUTRITION COACHING w/ PMMFIT\n\nDate and Time: Thursday\, April 25\, 2:00 
 - 3:30 PM EDT\n\nLocation: Choose Healthy Life Gateway Restoration Church\
 , 4981 Phillips Drive\, Forest Park\, GA 30297\, United States\n\nFor Zoom
  access text:"ZOOM Information" to (770) 842-1623.\n\nTicket Information:\
 n\nGeneral Admission: $10.00 (Incl. sales tax)\nGET TICKETS\nWorkout Sessi
 on Detail:  Pamela Myers Model Fitness (PMMFIT) for a specialized GROUP C
 HAIR STRENGTH TRAINING &amp\; NUTRITION COACHING session. This session is 
 tailored for individuals who may be deconditioned\, recovering from Long C
 OVID/Post-COVID/Post-Physical Therapy\, or active aging adults/seniors dea
 ling with chronic diseases such as diabetes\, high blood pressure\, heart 
 disease\, etc. The session will last between 60 to 90 minutes and includes
  strength and balance exercises.\n\nThis event offers a unique program cal
 led Weight Management 101\, focusing on group chair strength training and 
 nutrition coaching. Hosted by Pamela Myers Model Fitness (PMMFIT)\, LLC\, 
 the session aims to cater to various fitness levels and health conditions.
  Participants can join in person at Gateway Restoration Church (GRC) or vi
 rtually via Zoom.\n\nEssentials to Bring: Participants are encouraged to b
 ring comfortable clothing suitable for exercise. For those joining via Zoo
 m\, ensure access to a stable internet connection and appropriate space fo
 r movement.\n\nParking Option: No specific parking information provided. A
 ttendees are advised to check local parking availability near Gateway Rest
 oration Church.\n\nAgenda:\n\n 	2:00 PM - 3:00 PM: GROUP CHAIR STRENGTH &a
 mp\; BALANCE\n 	3:00 PM - 3:30 PM: PMMFIT FOOD TALK\n\nAdditional Informat
 ion: Participants are invited to take the PMMFIT BODY TRANSFORMATION CHALL
 ENGE and can connect with Pamela Myers on Instagram (@PMMFIT)\, Facebook\,
  and LinkedIn for updates and fitness tips.\n\n\n\n\n\n\n\n\n\n\n\n\n
ATTACH;FMTTYPE=image/jpeg:https://breatheatlanta.us/wp-content/uploads/202
 4/03/https___cdn.evbuc_.com_images_547199359_238366451395_1_original-1.jpe
 g
CATEGORIES:Wellness Events,Yoga Events
LOCATION:Choose Healthy Life Gateway Restoration Church\, 4981 Phillips Dri
 ve Forest Park\, GA 30297 United States\, GA\,  United States\,  30297\, G
 A\, United States
X-APPLE-STRUCTURED-LOCATION;VALUE=URI;X-ADDRESS=4981 Phillips Drive Forest 
 Park\, GA 30297 United States\, GA\,  United States\,  30297\, GA\, United
  States;X-APPLE-RADIUS=100;X-TITLE=Choose Healthy Life Gateway Restoration
  Church:geo:0,0
END:VEVENT
BEGIN:VTIMEZONE
TZID:America/New_York
X-LIC-LOCATION:America/New_York
BEGIN:DAYLIGHT
DTSTART:20240310T030000
TZOFFSETFROM:-0500
TZOFFSETTO:-0400
TZNAME:EDT
END:DAYLIGHT
END:VTIMEZONE
END:VCALENDAR