BEGIN:VCALENDAR
VERSION:2.0
PRODID:-//wp-events-plugin.com//7.2.3.1//EN
TZID:America/New_York
X-WR-TIMEZONE:America/New_York
BEGIN:VEVENT
UID:215@breatheatlanta.us
DTSTART;TZID=America/New_York:20240420T100000
DTEND;TZID=America/New_York:20240420T110000
DTSTAMP:20240403T131818Z
URL:https://breatheatlanta.us/events/group-assisted-stretch-therapy-class/
SUMMARY:Group Assisted Stretch Therapy Class
DESCRIPTION:\n\n\n\n\n\n\n\n\n\n\n\n\nPrepare yourself for an enriching exp
 erience as you dive into our Group Stretch Therapy Class. Here\, you'll de
 lve into effective techniques designed to release tension and enhance flex
 ibility\, allowing you to unlock your body's full potential.\n\nEvent Info
 rmation:\n\nEvent Name: Group Assisted Stretch Therapy Class\n\nHost: RC C
 hiropractic &amp\; Personal Injury Centers LLC\n\nDate and Time: Saturday\
 , April 20 • 10:00 AM - 11:00 AM EDT\n\nLocation: RC Chiropractic &amp\;
  Personal Injury Centers\, 3547 Peachtree Industrial Boulevard Suite 10\, 
 Duluth\, GA 30096\, United States\n\nTicket Price: FREE\n\nGET TICKETS\n\n
 About this Event:\n\nA rejuvenating Group Stretch Therapy Class at RC Chir
 opractic &amp\; Personal Injury Centers! This in-person event will guide p
 articipants through a series of stretching exercises aimed at enhancing fl
 exibility\, reducing muscle tension\, and alleviating pain. Led by our exp
 ert instructors\, this class is suitable for individuals of all levels\, f
 rom beginners to experienced stretchers. Bring your yoga mat and immerse y
 ourself in an hour of self-care and mobility enhancement.\n\nWorkout Sessi
 on Detail:\n\nType: Group Stretch Therapy\n\nDuration: 1 hour\n\nEssential
  for Bring:\n\nYoga Mat\n\nAdditional Notes:\n\nThe event is free of charg
 e and open to all levels.\n\nCome prepared to improve your flexibility and
  alleviate muscle tension under the guidance of experienced instructors.\n
 \n\n\n\n\n\n\n\n\n\n\n\n\n
ATTACH;FMTTYPE=image/jpeg:https://breatheatlanta.us/wp-content/uploads/202
 4/04/https___cdn.evbuc_.com_images_659960519_510505530831_1_original.jpg
CATEGORIES:Wellness Events,Yoga Events
LOCATION:RC Chiropractic & Personal Injury Centers\, 3547 Peachtree Industr
 ial Boulevard Suite 10 Duluth\, \, GA \, United States\, 30096 \, GA\, Uni
 ted States
X-APPLE-STRUCTURED-LOCATION;VALUE=URI;X-ADDRESS=3547 Peachtree Industrial B
 oulevard Suite 10 Duluth\, \, GA \, United States\, 30096 \, GA\, United S
 tates;X-APPLE-RADIUS=100;X-TITLE=RC Chiropractic & Personal Injury Centers
 :geo:0,0
END:VEVENT
BEGIN:VTIMEZONE
TZID:America/New_York
X-LIC-LOCATION:America/New_York
BEGIN:DAYLIGHT
DTSTART:20240310T030000
TZOFFSETFROM:-0500
TZOFFSETTO:-0400
TZNAME:EDT
END:DAYLIGHT
END:VTIMEZONE
END:VCALENDAR