BEGIN:VCALENDAR
VERSION:2.0
PRODID:-//wp-events-plugin.com//7.2.3.1//EN
TZID:America/New_York
X-WR-TIMEZONE:America/New_York
BEGIN:VEVENT
UID:374@breatheatlanta.us
DTSTART;TZID=America/New_York:20240810T120000
DTEND;TZID=America/New_York:20240810T140000
DTSTAMP:20240730T110447Z
URL:https://breatheatlanta.us/events/group-reiki-circle/
SUMMARY:Group Reiki Circle
DESCRIPTION:Reiki\, a divinely guided practice\, offers a holistic approach
  to health and wellness by harmonizing the physical\, mental\, emotional\,
  and spiritual systems. Join us for the Group Reiki Circle\, a unique oppo
 rtunity to immerse yourself in the healing energies of Reiki within a supp
 ortive community environment.\n\nWhat to Expect:\n\n 	Group Reiki Session:
  Engage in a powerful collective Reiki session\, where the combined energy
  of the group amplifies the healing process. Experience the soothing\, res
 torative effects of Reiki as you share this journey with others.\n 	Intera
 ctive Q&amp\;A: Gain deeper insights into the practice of Reiki through an
  interactive session where you can ask questions and learn from experience
 d practitioners.\n 	Knowledge Sharing: Share your own experiences and hear
  from others in a loving\, communal atmosphere. This exchange of knowledge
  and personal stories fosters a sense of connection and mutual support.\n\
 nThe Group Reiki Circle is more than just a session\; it’s a sanctuary w
 here you can nurture your well-being\, expand your understanding of Reiki\
 , and connect with a like-minded community. Whether you are new to Reiki o
 r a seasoned practitioner\, this circle offers a welcoming space to deepen
  your practice and enhance your journey to holistic harmony.\n\nJoin us an
 d let the collective energy guide you toward greater balance and wellness.
 \n\nGET TICKETS\n
ATTACH;FMTTYPE=image/jpeg:https://breatheatlanta.us/wp-content/uploads/202
 4/07/Group-Reiki-Circle.jpg
CATEGORIES:Nature Events,Things To Do,Wellness Events
LOCATION:Private Venue\, Regal Hills Lane Mableton\, Atlanta\, Georgia\, 30
 126\, GA \, United States
X-APPLE-STRUCTURED-LOCATION;VALUE=URI;X-ADDRESS=Regal Hills Lane Mableton\,
  Atlanta\, Georgia\, 30126\, GA \, United States;X-APPLE-RADIUS=100;X-TITL
 E=Private Venue:geo:0,0
END:VEVENT
BEGIN:VTIMEZONE
TZID:America/New_York
X-LIC-LOCATION:America/New_York
BEGIN:DAYLIGHT
DTSTART:20240310T030000
TZOFFSETFROM:-0500
TZOFFSETTO:-0400
TZNAME:EDT
END:DAYLIGHT
END:VTIMEZONE
END:VCALENDAR