BEGIN:VCALENDAR
VERSION:2.0
PRODID:-//wp-events-plugin.com//7.2.3.1//EN
TZID:America/New_York
X-WR-TIMEZONE:America/New_York
BEGIN:VEVENT
UID:459@breatheatlanta.us
DTSTART;TZID=America/New_York:20240928T120000
DTEND;TZID=America/New_York:20240928T133000
DTSTAMP:20240917T215249Z
URL:https://breatheatlanta.us/events/group-sound-therapy-somatic-practices
 -vocal-expression-with-chelsea/
SUMMARY:Group Sound Therapy\, somatic practices\, + vocal expression with C
 helsea
DESCRIPTION:Join Chelsea Shag for a transformative 90-minute class where pa
 rticipants will explore powerful techniques to regulate their nervous syst
 em through a unique blend of vocal expression\, somatic practices\, and so
 und therapy. This session integrates the Trauma-Informed Healing Method\, 
 Chi For Two®\, developed by Dee Wagner.\n\nEvent Details:\n\n 	Date: Satu
 rday\, September 28th\, 2024\n 	Time: Doors open at 11:30 AM\; the class b
 egins at 12:00 PM and concludes at 1:30 PM\n 	Location: Harbor of Dreams A
 rt\, the home of Chi For Two\, in Stone Mountain\, Georgia\n\nWhat to Brin
 g:\n\n 	A yoga mat\, blanket\, and pillow for comfort\n 	Wear comfortable\
 , flexible clothing suitable for movement and relaxation\n 	Additional mat
 s and blankets will be provided if needed\n\nAdditional Information:\n\n 	
 Free parking is available in front of the building\n 	Restroom facilities 
 are on-site\n\nThis session promises an enriching experience that combines
  the soothing power of sound with effective somatic practices and vocal te
 chniques\, offering participants the opportunity to connect deeply with th
 emselves and enhance their overall well-being. Don't miss this chance to e
 ngage in a profound exploration of healing and self-regulation in a suppor
 tive and serene environment.\n\nGET TICKETS\n
ATTACH;FMTTYPE=image/jpeg:https://breatheatlanta.us/wp-content/uploads/202
 4/09/Group-Sound-Therapy-somatic-practices-vocal-expression-with-Chelsea.j
 pg
CATEGORIES:Featured Events,Things To Do,Wellness Events
LOCATION:Harbor of Dreams Art\, 6570 James B Rivers Memorial Drive Stone Mo
 untain\, Atlanta\, Georgia\, 30083\, GA\, United States
X-APPLE-STRUCTURED-LOCATION;VALUE=URI;X-ADDRESS=6570 James B Rivers Memoria
 l Drive Stone Mountain\, Atlanta\, Georgia\, 30083\, GA\, United States;X-
 APPLE-RADIUS=100;X-TITLE=Harbor of Dreams Art:geo:0,0
END:VEVENT
BEGIN:VTIMEZONE
TZID:America/New_York
X-LIC-LOCATION:America/New_York
BEGIN:DAYLIGHT
DTSTART:20240310T030000
TZOFFSETFROM:-0500
TZOFFSETTO:-0400
TZNAME:EDT
END:DAYLIGHT
END:VTIMEZONE
END:VCALENDAR