BEGIN:VCALENDAR
VERSION:2.0
PRODID:-//wp-events-plugin.com//7.2.3.1//EN
TZID:America/New_York
X-WR-TIMEZONE:America/New_York
BEGIN:VEVENT
UID:315@breatheatlanta.us
DTSTART;TZID=America/New_York:20240717T180000
DTEND;TZID=America/New_York:20240717T190000
DTSTAMP:20240626T194337Z
URL:https://breatheatlanta.us/events/guided-meditation-and-sound-bath/
SUMMARY:Guided Meditation and Sound Bath
DESCRIPTION:Embark on a journey of relaxation and inner peace at the Guided
  Meditation and Sound Bath experience. This in-person event offers a uniqu
 e blend of guided meditation and sound healing to help participants unwind
  and rejuvenate.\n\nEvent Details:\n\n 	Format: The event combines the cal
 ming practice of guided meditation with the healing vibrations of a sound 
 bath\, creating a serene and tranquil atmosphere.\n 	Experience Level: No 
 prior experience is required. Participants are encouraged to come with an 
 open heart and a willingness to relax.\n 	Setting: Held in a tranquil sett
 ing\, the event provides a peaceful environment conducive to meditation an
 d sound healing.\n\nBenefits of Attending:\n\n 	Stress Relief: Let go of s
 tress and tension as you immerse yourself in the calming practices of medi
 tation and sound healing.\n 	Mental Clarity: Calm your mind and gain clari
 ty as you focus on the present moment and the soothing sounds around you.\
 n 	Spiritual Renewal: Rejuvenate your spirit and connect with your inner s
 elf through the healing vibrations of sound.\n\nWhy Attend?\n\n 	Self-Care
 : Treat yourself to a blissful evening dedicated to self-care and relaxati
 on. This event offers a unique opportunity to unwind and recharge.\n 	Sere
 ne Atmosphere: Experience the tranquility of guided meditation and sound h
 ealing in a supportive and nurturing environment.\n 	Open to All: Whether 
 you're new to meditation or have experience\, this event welcomes everyone
  to come and experience the benefits of relaxation and inner peace.\n\nDon
 't miss out on this chance to find serenity and rejuvenation. Join us for 
 a blissful evening of guided meditation and sound healing\, and discover t
 he transformative power of relaxation and inner peace.\n\nGET TICKETS\n
ATTACH;FMTTYPE=image/jpeg:https://breatheatlanta.us/wp-content/uploads/202
 4/06/Guided-Meditation-and-Sound-Bath.jpg
LOCATION:High Vibing Health\, 120 Prospector Drive #Suite B Villa Rica\, At
 lanta\, United States\, 30180\, GA \, United States
X-APPLE-STRUCTURED-LOCATION;VALUE=URI;X-ADDRESS=120 Prospector Drive #Suite
  B Villa Rica\, Atlanta\, United States\, 30180\, GA \, United States;X-AP
 PLE-RADIUS=100;X-TITLE=High Vibing Health:geo:0,0
END:VEVENT
BEGIN:VTIMEZONE
TZID:America/New_York
X-LIC-LOCATION:America/New_York
BEGIN:DAYLIGHT
DTSTART:20240310T030000
TZOFFSETFROM:-0500
TZOFFSETTO:-0400
TZNAME:EDT
END:DAYLIGHT
END:VTIMEZONE
END:VCALENDAR