BEGIN:VCALENDAR
VERSION:2.0
PRODID:-//wp-events-plugin.com//7.2.3.1//EN
TZID:America/New_York
X-WR-TIMEZONE:America/New_York
BEGIN:VEVENT
UID:579@breatheatlanta.us
DTSTART;TZID=America/New_York:20241103T193000
DTEND;TZID=America/New_York:20241103T203000
DTSTAMP:20241009T124157Z
URL:https://breatheatlanta.us/events/guided-soundbath-meditation/
SUMMARY:Guided Soundbath Meditation
DESCRIPTION:Every Sunday from 7:30 PM to 8:30 PM\, Choke Ah Bead Metaphysic
 al Store in McDonough\, GA\, hosts a calming and rejuvenating Guided Sound
 bath Meditation. This unique experience invites participants to immerse th
 emselves in soothing sounds designed to promote relaxation and inner peace
 .\n\nLed by an experienced meditation guide\, attendees will embark on a t
 ransformative journey\, allowing the healing vibrations to wash over them 
 and help release accumulated stress and tension. Participants are encourag
 ed to bring their own yoga mats\, along with pillows and blankets for adde
 d comfort\, although some mats are available on-site.\n\nThis session prov
 ides an ideal opportunity to reset and recharge in a serene environment\, 
 fostering a deeper connection to oneself.\n\nImportant Note: Tickets for t
 he event are non-refundable and non-transferable. Join us at Choke Ah Bead
  Metaphysical Store\, located at 2070 Jodeco Rd\, McDonough\, GA 30253\, a
 nd experience the restorative power of sound!\n\nGET TICKETS\n
ATTACH;FMTTYPE=image/jpeg:https://breatheatlanta.us/wp-content/uploads/202
 4/10/Guided-Soundbath-Meditation.jpeg
CATEGORIES:Wellness Events
LOCATION:Choke Ah Bead Metaphysical Store 2070 Jodeco Road\, 2070 Jodeco Ro
 ad McDonough\, McDonough\, California\, 30253\, CA\, United States
X-APPLE-STRUCTURED-LOCATION;VALUE=URI;X-ADDRESS=2070 Jodeco Road McDonough\
 , McDonough\, California\, 30253\, CA\, United States;X-APPLE-RADIUS=100;X
 -TITLE=Choke Ah Bead Metaphysical Store 2070 Jodeco Road:geo:0,0
END:VEVENT
BEGIN:VTIMEZONE
TZID:America/New_York
X-LIC-LOCATION:America/New_York
BEGIN:STANDARD
DTSTART:20241103T010000
TZOFFSETFROM:-0400
TZOFFSETTO:-0500
TZNAME:EST
END:STANDARD
END:VTIMEZONE
END:VCALENDAR