BEGIN:VCALENDAR
VERSION:2.0
PRODID:-//wp-events-plugin.com//7.2.3.1//EN
TZID:America/New_York
X-WR-TIMEZONE:America/New_York
BEGIN:VEVENT
UID:134@breatheatlanta.us
DTSTART;TZID=America/New_York:20240401T180000
DTEND;TZID=America/New_York:20240401T190000
DTSTAMP:20240320T090023Z
URL:https://breatheatlanta.us/events/guided-stillness-meditation/
SUMMARY:Guided Stillness Meditation
DESCRIPTION:\n\n\n\n\n\n\n\n\n\n\n\n\n\n\n\n\n\n\n\n\n\n\n\n\nEmbark on a t
 ransformative journey of Guided Stillness Meditation\, where the tranquil 
 waters of inner peace await your exploration. Through serene and guided re
 flection\, discover the profound essence of tranquility and harmony within
  yourself. Let the gentle currents of calm wash away the noise of the outs
 ide world\, guiding you to a place of deep serenity and inner quiet. This 
 meditative voyage offers not just a momentary escape\, but a timeless sanc
 tuary where you can reconnect with your innermost self and discover the bo
 undless depths of peace within.\n\n\n\n\n\n\n\n\n\n\n\n\n\nEvent Informati
 on:\n\nEvent Name: Guided Stillness Meditation\n\nHosted By: World of Awak
 ening USA\n\nDate and Time: Monday\, April 1\, 6:00 - 7:00 PM EDT\n\nLocat
 ion: Публичная библиотека Розуэлл (Roswell Publi
 c Library)\, 115 Norcross Street\, Roswell\, GA 30075\, United States\n\nA
 bout This Event: Experience the profound serenity of a Guided Stillness Me
 ditation\, a transformative journey that invites you to embark on a path t
 o inner peace and tranquility. Through gentle guidance\, you will be led i
 nto a state of deep stillness\, where the noise of the outside world fades
  away\, and you can connect with the quiet wisdom within you. This meditat
 ive practice offers a moment of respite from the demands of daily life\, a
 llowing you to rejuvenate your spirit and nurture your well-being. Join us
  and discover the restorative power of guided stillness meditation as you 
 embark on a journey of self-discovery and inner calm.\n\nTicket Informatio
 n: FREE admission\n\n&nbsp\;\n\nGET TICKETS\n\nWorkout Session Detail:\n\n
 Type: Guided Stillness Meditation\n\nDescription: A transformative journey
  to inner peace and tranquility through gentle guidance and deep stillness
 .\n\nEssential for Bring: Participants are encouraged to bring comfortable
  clothing and an open mind.\n\nParking Option: Information about parking o
 ptions is not provided. Please inquire with the event organizers or check 
 the venue's website for parking details.\n\n\n\n\n\n\n\n\n\n\n\n\n\n\n\n
ATTACH;FMTTYPE=image/jpeg:https://breatheatlanta.us/wp-content/uploads/202
 4/03/https-__cdn.evbuc_.com_images_647810129_1470915604383_1_original.jpeg
CATEGORIES:Wellness Events
LOCATION:Roswell Public Library\, 115 Norcross Street Roswell\, GA 30075 Un
 ited States\, Roswell\, United States\, 30075\, GA \, United States
X-APPLE-STRUCTURED-LOCATION;VALUE=URI;X-ADDRESS=115 Norcross Street Roswell
 \, GA 30075 United States\, Roswell\, United States\, 30075\, GA \, United
  States;X-APPLE-RADIUS=100;X-TITLE=Roswell Public Library:geo:0,0
END:VEVENT
BEGIN:VTIMEZONE
TZID:America/New_York
X-LIC-LOCATION:America/New_York
BEGIN:DAYLIGHT
DTSTART:20240310T030000
TZOFFSETFROM:-0500
TZOFFSETTO:-0400
TZNAME:EDT
END:DAYLIGHT
END:VTIMEZONE
END:VCALENDAR