BEGIN:VCALENDAR
VERSION:2.0
PRODID:-//wp-events-plugin.com//7.2.3.1//EN
TZID:America/New_York
X-WR-TIMEZONE:America/New_York
BEGIN:VEVENT
UID:740@breatheatlanta.us
DTSTART;TZID=America/New_York:20241207T110000
DTEND;TZID=America/New_York:20241207T150000
DTSTAMP:20241204T075612Z
URL:https://breatheatlanta.us/events/halcyon-holiday-magic/
SUMMARY:Halcyon Holiday Magic
DESCRIPTION:Halcyon invites families to immerse themselves in the wonder of
  the season at its Holiday Magic event. This enchanting celebration brings
  beloved characters\, joyous activities\, and the spirit of giving togethe
 r in one magical experience. Designed to delight children and adults alike
 \, Halcyon Holiday Magic promises a day of unforgettable memories and holi
 day cheer.\nA Star-Studded Cast of Characters\nChildren will be thrilled t
 o meet some of their favorite characters during this festive event. Photo 
 opportunities abound with beloved icons\, including:\n\n 	Minnie and Micke
 y Mouse\nThe timeless Disney duo adds a touch of magic to the festivities 
 with their warm smiles and cheerful presence.\n 	Elsa and Anna from Frozen
 \nStraight from Arendelle\, the ice queen and her sister bring their signa
 ture charm and snowy elegance to the celebration.\n 	The Grinch\nAdding a 
 playful twist to the holiday spirit\, the Grinch is sure to bring laughter
  and fun with his mischievous antics.\n 	Santa Claus\nNo holiday celebrati
 on would be complete without a visit from Santa himself\, ready to hear ch
 ildren’s wishes and pose for memorable photos.\n\nActivities to Spark Cr
 eativity and Joy\nIn addition to meeting iconic characters\, kids can enjo
 y a variety of festive activities designed to engage their creativity and 
 spread cheer:\n\n 	Craft Stations\nChildren can channel their inner artist
  by creating holiday-themed crafts to take home as keepsakes.\n 	Face Pain
 ting\nTalented artists will transform little ones into holiday masterpiece
 s with whimsical face painting designs.\n 	Musical Entertainment\nThe air 
 will be filled with the sounds of the season as live music and festive tun
 es set the tone for a joyous celebration.\n\nA Special Gift and a Heartfel
 t Cause\nBefore the day concludes\, each child will receive a cuddly teddy
  bear courtesy of Northside Hospital\, adding an extra layer of warmth and
  delight to the event. Beyond the fun\, Halcyon Holiday Magic is a celebra
 tion with a purpose: proceeds from ticket sales support Family Promise\, a
  nonprofit dedicated to helping families in need.\nImportant Details\nAdva
 nce tickets are required for this event\, and walk-ups cannot be accommoda
 ted. Families are encouraged to secure their spots early to ensure they do
 n’t miss this heartwarming holiday experience.\n\nWith its blend of cher
 ished characters\, engaging activities\, and a commitment to giving back\,
  Halcyon Holiday Magic is the perfect way to embrace the joy and spirit of
  the season. Gather your family\, capture magical moments\, and celebrate 
 the holidays in a way that brings smiles to your loved ones and hope to th
 e community.\n\nGET TICKETS\n
ATTACH;FMTTYPE=image/jpeg:https://breatheatlanta.us/wp-content/uploads/202
 4/12/Halcyon-Holiday-Magic.webp
CATEGORIES:Arts &amp; Performances,Food &amp; Drink Events,Things To Do
LOCATION:Halcyon\, 6365 Halcyon Way Alpharetta\, GA 30005 United States\, G
 A \, United States\, 30005 \, GA\, United States
X-APPLE-STRUCTURED-LOCATION;VALUE=URI;X-ADDRESS=6365 Halcyon Way Alpharetta
 \, GA 30005 United States\, GA \, United States\, 30005 \, GA\, United Sta
 tes;X-APPLE-RADIUS=100;X-TITLE=Halcyon:geo:0,0
END:VEVENT
BEGIN:VTIMEZONE
TZID:America/New_York
X-LIC-LOCATION:America/New_York
BEGIN:STANDARD
DTSTART:20241103T010000
TZOFFSETFROM:-0400
TZOFFSETTO:-0500
TZNAME:EST
END:STANDARD
END:VTIMEZONE
END:VCALENDAR