BEGIN:VCALENDAR
VERSION:2.0
PRODID:-//wp-events-plugin.com//7.2.3.1//EN
TZID:America/New_York
X-WR-TIMEZONE:America/New_York
BEGIN:VEVENT
UID:504@breatheatlanta.us
DTSTART;TZID=America/New_York:20241005T100000
DTEND;TZID=America/New_York:20241031T170000
DTSTAMP:20240928T064038Z
URL:https://breatheatlanta.us/events/halloween-brick-or-treat-monster-part
 y/
SUMMARY:Halloween Brick-or-Treat Monster Party
DESCRIPTION:This October\, a thrilling event awaits as the LEGO® Brick-or-
 Treat Monster Party takes center stage\, and everyone is invited to join i
 n on the fun! From October 6th to October 31st\, the LEGO Discovery Center
  Atlanta will transform into a Halloween wonderland\, where guests can exp
 erience a variety of exciting activities led by the beloved LEGO Monsters.
 \n\nThroughout the month\, families and friends will have the chance to en
 gage in a multitude of Halloween-themed activities designed to spark creat
 ivity and imagination. Visitors can participate in interactive LEGO buildi
 ng challenges\, where they can construct their very own spooky creations a
 nd showcase their talents.\n\nThe Brick-or-Treat festivities will also fea
 ture festive decorations\, providing a vibrant backdrop for all the fun. A
 ttendees can look forward to meet-and-greet opportunities with charming LE
 GO Monsters\, who will be on hand to spread Halloween cheer and pose for p
 hotos with their fans.\n\nSpecial themed events will occur throughout the 
 month\, making each visit unique and memorable. Guests are encouraged to c
 ome dressed in their favorite Halloween costumes to fully immerse themselv
 es in the spirit of the season.\n\nWhether you’re a lifelong LEGO enthus
 iast or new to the world of bricks\, the Halloween Brick-or-Treat Monster 
 Party at LEGO Discovery Center Atlanta promises to deliver a spook-tacular
  experience filled with laughter\, creativity\, and holiday spirit. Don’
 t miss the chance to be part of this unforgettable celebration!\n\nGET TIC
 KETS\n
ATTACH;FMTTYPE=image/jpeg:https://breatheatlanta.us/wp-content/uploads/202
 4/09/LEGO-Discovery-Center-Atlanta.webp
CATEGORIES:Things To Do
LOCATION:LEGO Discovery Center Atlanta\, 3500 Peachtree Road NE Atlanta\, A
 tlanta\, Georgia\, 30326\, GA\, United States
X-APPLE-STRUCTURED-LOCATION;VALUE=URI;X-ADDRESS=3500 Peachtree Road NE Atla
 nta\, Atlanta\, Georgia\, 30326\, GA\, United States;X-APPLE-RADIUS=100;X-
 TITLE=LEGO Discovery Center Atlanta:geo:0,0
END:VEVENT
BEGIN:VTIMEZONE
TZID:America/New_York
X-LIC-LOCATION:America/New_York
BEGIN:DAYLIGHT
DTSTART:20240310T030000
TZOFFSETFROM:-0500
TZOFFSETTO:-0400
TZNAME:EDT
END:DAYLIGHT
END:VTIMEZONE
END:VCALENDAR